BEGIN:VCALENDAR
VERSION:2.0
PRODID:-//Sherrard Law Group - ECPv6.15.20//NONSGML v1.0//EN
CALSCALE:GREGORIAN
METHOD:PUBLISH
X-WR-CALNAME:Sherrard Law Group
X-ORIGINAL-URL:https://johnsherrard.com
X-WR-CALDESC:Events for Sherrard Law Group
REFRESH-INTERVAL;VALUE=DURATION:PT1H
X-Robots-Tag:noindex
X-PUBLISHED-TTL:PT1H
BEGIN:VTIMEZONE
TZID:UTC
BEGIN:STANDARD
TZOFFSETFROM:+0000
TZOFFSETTO:+0000
TZNAME:UTC
DTSTART:20230101T000000
END:STANDARD
END:VTIMEZONE
BEGIN:VEVENT
DTSTART;TZID=UTC:20240603T090000
DTEND;TZID=UTC:20240603T100000
DTSTAMP:20260422T085424
CREATED:20240511T002912Z
LAST-MODIFIED:20240511T002912Z
UID:6638-1717405200-1717408800@johnsherrard.com
SUMMARY:Unavailable
DESCRIPTION:
URL:https://johnsherrard.com/event/unavailable-319/
END:VEVENT
BEGIN:VEVENT
DTSTART;TZID=UTC:20240604T093000
DTEND;TZID=UTC:20240604T170000
DTSTAMP:20260422T085424
CREATED:20240511T002938Z
LAST-MODIFIED:20240511T002938Z
UID:6640-1717493400-1717520400@johnsherrard.com
SUMMARY:Unavailable
DESCRIPTION:
URL:https://johnsherrard.com/event/unavailable-320/
END:VEVENT
BEGIN:VEVENT
DTSTART;TZID=UTC:20240605T080000
DTEND;TZID=UTC:20240605T170000
DTSTAMP:20260422T085424
CREATED:20240315T215701Z
LAST-MODIFIED:20240315T215701Z
UID:6604-1717574400-1717606800@johnsherrard.com
SUMMARY:Unavailable
DESCRIPTION:
URL:https://johnsherrard.com/event/unavailable-312/
END:VEVENT
BEGIN:VEVENT
DTSTART;TZID=UTC:20240606T100000
DTEND;TZID=UTC:20240606T170000
DTSTAMP:20260422T085424
CREATED:20240511T003002Z
LAST-MODIFIED:20240511T003002Z
UID:6642-1717668000-1717693200@johnsherrard.com
SUMMARY:Unavailable
DESCRIPTION:
URL:https://johnsherrard.com/event/unavailable-321/
END:VEVENT
BEGIN:VEVENT
DTSTART;TZID=UTC:20240607T080000
DTEND;TZID=UTC:20240607T170000
DTSTAMP:20260422T085424
CREATED:20231226T205102Z
LAST-MODIFIED:20231226T205102Z
UID:6493-1717747200-1717779600@johnsherrard.com
SUMMARY:Unavailable
DESCRIPTION:
URL:https://johnsherrard.com/event/unavailable-276/
END:VEVENT
BEGIN:VEVENT
DTSTART;TZID=UTC:20240611T100000
DTEND;TZID=UTC:20240611T170000
DTSTAMP:20260422T085424
CREATED:20240511T003030Z
LAST-MODIFIED:20240511T003030Z
UID:6644-1718100000-1718125200@johnsherrard.com
SUMMARY:Unavailable
DESCRIPTION:
URL:https://johnsherrard.com/event/unavailable-322/
END:VEVENT
BEGIN:VEVENT
DTSTART;TZID=UTC:20240612T080000
DTEND;TZID=UTC:20240612T170000
DTSTAMP:20260422T085424
CREATED:20231024T175428Z
LAST-MODIFIED:20231024T175428Z
UID:6382-1718179200-1718211600@johnsherrard.com
SUMMARY:Unavailable
DESCRIPTION:
URL:https://johnsherrard.com/event/unavailable-233/
END:VEVENT
BEGIN:VEVENT
DTSTART;TZID=UTC:20240613T093000
DTEND;TZID=UTC:20240613T170000
DTSTAMP:20260422T085424
CREATED:20240511T003052Z
LAST-MODIFIED:20240511T003052Z
UID:6646-1718271000-1718298000@johnsherrard.com
SUMMARY:Unavailable
DESCRIPTION:
URL:https://johnsherrard.com/event/unavailable-323/
END:VEVENT
BEGIN:VEVENT
DTSTART;TZID=UTC:20240614T080000
DTEND;TZID=UTC:20240614T170000
DTSTAMP:20260422T085424
CREATED:20231226T205143Z
LAST-MODIFIED:20231226T205143Z
UID:6495-1718352000-1718384400@johnsherrard.com
SUMMARY:Unavailable
DESCRIPTION:
URL:https://johnsherrard.com/event/unavailable-277/
END:VEVENT
BEGIN:VEVENT
DTSTART;TZID=UTC:20240617T100000
DTEND;TZID=UTC:20240617T170000
DTSTAMP:20260422T085424
CREATED:20240513T173756Z
LAST-MODIFIED:20240513T173756Z
UID:6660-1718618400-1718643600@johnsherrard.com
SUMMARY:unavail
DESCRIPTION:
URL:https://johnsherrard.com/event/unavail-125/
END:VEVENT
BEGIN:VEVENT
DTSTART;TZID=UTC:20240619T080000
DTEND;TZID=UTC:20240621T170000
DTSTAMP:20260422T085424
CREATED:20240408T161445Z
LAST-MODIFIED:20240408T161445Z
UID:6613-1718784000-1718989200@johnsherrard.com
SUMMARY:Unavailable
DESCRIPTION:
URL:https://johnsherrard.com/event/unavailable-313/
END:VEVENT
BEGIN:VEVENT
DTSTART;TZID=UTC:20240620T080000
DTEND;TZID=UTC:20240620T100000
DTSTAMP:20260422T085424
CREATED:20231019T222057Z
LAST-MODIFIED:20231019T222057Z
UID:6347-1718870400-1718877600@johnsherrard.com
SUMMARY:unavail
DESCRIPTION:
URL:https://johnsherrard.com/event/unavail-109/
END:VEVENT
BEGIN:VEVENT
DTSTART;TZID=UTC:20240621T080000
DTEND;TZID=UTC:20240621T170000
DTSTAMP:20260422T085424
CREATED:20231226T205202Z
LAST-MODIFIED:20231226T205202Z
UID:6497-1718956800-1718989200@johnsherrard.com
SUMMARY:Unavailable
DESCRIPTION:
URL:https://johnsherrard.com/event/unavailable-278/
END:VEVENT
BEGIN:VEVENT
DTSTART;TZID=UTC:20240624T080000
DTEND;TZID=UTC:20240624T170000
DTSTAMP:20260422T085424
CREATED:20240513T195246Z
LAST-MODIFIED:20240513T195246Z
UID:6662-1719216000-1719248400@johnsherrard.com
SUMMARY:Unavailable
DESCRIPTION:
URL:https://johnsherrard.com/event/unavailable-329/
END:VEVENT
BEGIN:VEVENT
DTSTART;TZID=UTC:20240625T100000
DTEND;TZID=UTC:20240625T170000
DTSTAMP:20260422T085424
CREATED:20240604T173734Z
LAST-MODIFIED:20240604T173734Z
UID:6669-1719309600-1719334800@johnsherrard.com
SUMMARY:Unavail
DESCRIPTION:
URL:https://johnsherrard.com/event/unavail-126/
END:VEVENT
BEGIN:VEVENT
DTSTART;TZID=UTC:20240626T130000
DTEND;TZID=UTC:20240626T170000
DTSTAMP:20260422T085424
CREATED:20240511T003120Z
LAST-MODIFIED:20240511T003120Z
UID:6648-1719406800-1719421200@johnsherrard.com
SUMMARY:Unavailable
DESCRIPTION:
URL:https://johnsherrard.com/event/unavailable-324/
END:VEVENT
BEGIN:VEVENT
DTSTART;TZID=UTC:20240628T080000
DTEND;TZID=UTC:20240628T170000
DTSTAMP:20260422T085424
CREATED:20231226T205222Z
LAST-MODIFIED:20231226T205222Z
UID:6499-1719561600-1719594000@johnsherrard.com
SUMMARY:Unavailable
DESCRIPTION:
URL:https://johnsherrard.com/event/unavailable-279/
END:VEVENT
END:VCALENDAR