BEGIN:VCALENDAR
VERSION:2.0
PRODID:-//Sherrard Law Group - ECPv6.15.20//NONSGML v1.0//EN
CALSCALE:GREGORIAN
METHOD:PUBLISH
X-WR-CALNAME:Sherrard Law Group
X-ORIGINAL-URL:https://johnsherrard.com
X-WR-CALDESC:Events for Sherrard Law Group
REFRESH-INTERVAL;VALUE=DURATION:PT1H
X-Robots-Tag:noindex
X-PUBLISHED-TTL:PT1H
BEGIN:VTIMEZONE
TZID:America/New_York
BEGIN:DAYLIGHT
TZOFFSETFROM:-0500
TZOFFSETTO:-0400
TZNAME:EDT
DTSTART:20200308T070000
END:DAYLIGHT
BEGIN:STANDARD
TZOFFSETFROM:-0400
TZOFFSETTO:-0500
TZNAME:EST
DTSTART:20201101T060000
END:STANDARD
BEGIN:DAYLIGHT
TZOFFSETFROM:-0500
TZOFFSETTO:-0400
TZNAME:EDT
DTSTART:20210314T070000
END:DAYLIGHT
BEGIN:STANDARD
TZOFFSETFROM:-0400
TZOFFSETTO:-0500
TZNAME:EST
DTSTART:20211107T060000
END:STANDARD
BEGIN:DAYLIGHT
TZOFFSETFROM:-0500
TZOFFSETTO:-0400
TZNAME:EDT
DTSTART:20220313T070000
END:DAYLIGHT
BEGIN:STANDARD
TZOFFSETFROM:-0400
TZOFFSETTO:-0500
TZNAME:EST
DTSTART:20221106T060000
END:STANDARD
END:VTIMEZONE
BEGIN:VTIMEZONE
TZID:UTC
BEGIN:STANDARD
TZOFFSETFROM:+0000
TZOFFSETTO:+0000
TZNAME:UTC
DTSTART:20200101T000000
END:STANDARD
END:VTIMEZONE
BEGIN:VEVENT
DTSTART;TZID=America/New_York:20211022T090000
DTEND;TZID=America/New_York:20211022T100000
DTSTAMP:20260423T234942
CREATED:20211022T143855Z
LAST-MODIFIED:20211022T143855Z
UID:3684-1634893200-1634896800@johnsherrard.com
SUMMARY:9 - 10 BOD
DESCRIPTION:
URL:https://johnsherrard.com/event/9-10-bod-8/
END:VEVENT
BEGIN:VEVENT
DTSTART;TZID=UTC:20211021T083000
DTEND;TZID=UTC:20211021T100000
DTSTAMP:20260423T234942
CREATED:20201015T173938Z
LAST-MODIFIED:20201015T173938Z
UID:2812-1634805000-1634810400@johnsherrard.com
SUMMARY:Unavailable
DESCRIPTION:
URL:https://johnsherrard.com/event/unavailable-53/
END:VEVENT
BEGIN:VEVENT
DTSTART;TZID=America/New_York:20211018T100000
DTEND;TZID=America/New_York:20211018T170000
DTSTAMP:20260423T234942
CREATED:20210802T145340Z
LAST-MODIFIED:20210802T145340Z
UID:3503-1634551200-1634576400@johnsherrard.com
SUMMARY:10 - 5 Mediation
DESCRIPTION:
URL:https://johnsherrard.com/event/10-5-mediation-20/
END:VEVENT
BEGIN:VEVENT
DTSTART;TZID=America/New_York:20211018T090000
DTEND;TZID=America/New_York:20211018T170000
DTSTAMP:20260423T234942
CREATED:20211018T143123Z
LAST-MODIFIED:20211018T143123Z
UID:3642-1634547600-1634576400@johnsherrard.com
SUMMARY:Unavail.
DESCRIPTION:
URL:https://johnsherrard.com/event/unavail-13/
END:VEVENT
BEGIN:VEVENT
DTSTART;TZID=America/New_York:20211012T100000
DTEND;TZID=America/New_York:20211012T100000
DTSTAMP:20260423T234942
CREATED:20210820T185051Z
LAST-MODIFIED:20210820T185051Z
UID:3552-1634032800-1634032800@johnsherrard.com
SUMMARY:Joseph Gufford
DESCRIPTION:Mediation\nCushman and Cushman\nSLC Case No:   2020-DR-2613 \nI had previously reserved 9/29 but couldn’t take it off your calendar\, sorry!
URL:https://johnsherrard.com/event/joseph-gufford-2/
END:VEVENT
BEGIN:VEVENT
DTSTART;TZID=America/New_York:20211011T080000
DTEND;TZID=America/New_York:20211029T170000
DTSTAMP:20260423T234942
CREATED:20210929T192254Z
LAST-MODIFIED:20210929T192254Z
UID:3601-1633939200-1635526800@johnsherrard.com
SUMMARY:9 - 5 unavail
DESCRIPTION:
URL:https://johnsherrard.com/event/9-5-unavail-27/
END:VEVENT
END:VCALENDAR