BEGIN:VCALENDAR
VERSION:2.0
PRODID:-//Sherrard Law Group - ECPv6.15.20//NONSGML v1.0//EN
CALSCALE:GREGORIAN
METHOD:PUBLISH
X-WR-CALNAME:Sherrard Law Group
X-ORIGINAL-URL:https://johnsherrard.com
X-WR-CALDESC:Events for Sherrard Law Group
REFRESH-INTERVAL;VALUE=DURATION:PT1H
X-Robots-Tag:noindex
X-PUBLISHED-TTL:PT1H
BEGIN:VTIMEZONE
TZID:America/New_York
BEGIN:DAYLIGHT
TZOFFSETFROM:-0500
TZOFFSETTO:-0400
TZNAME:EDT
DTSTART:20200308T070000
END:DAYLIGHT
BEGIN:STANDARD
TZOFFSETFROM:-0400
TZOFFSETTO:-0500
TZNAME:EST
DTSTART:20201101T060000
END:STANDARD
BEGIN:DAYLIGHT
TZOFFSETFROM:-0500
TZOFFSETTO:-0400
TZNAME:EDT
DTSTART:20210314T070000
END:DAYLIGHT
BEGIN:STANDARD
TZOFFSETFROM:-0400
TZOFFSETTO:-0500
TZNAME:EST
DTSTART:20211107T060000
END:STANDARD
BEGIN:DAYLIGHT
TZOFFSETFROM:-0500
TZOFFSETTO:-0400
TZNAME:EDT
DTSTART:20220313T070000
END:DAYLIGHT
BEGIN:STANDARD
TZOFFSETFROM:-0400
TZOFFSETTO:-0500
TZNAME:EST
DTSTART:20221106T060000
END:STANDARD
END:VTIMEZONE
BEGIN:VTIMEZONE
TZID:UTC
BEGIN:STANDARD
TZOFFSETFROM:+0000
TZOFFSETTO:+0000
TZNAME:UTC
DTSTART:20200101T000000
END:STANDARD
END:VTIMEZONE
BEGIN:VEVENT
DTSTART;TZID=America/New_York:20211129T090000
DTEND;TZID=America/New_York:20211129T100000
DTSTAMP:20260423T214134
CREATED:20211019T173437Z
LAST-MODIFIED:20211019T173437Z
UID:3653-1638176400-1638180000@johnsherrard.com
SUMMARY:9 - 10 unavailable
DESCRIPTION:
URL:https://johnsherrard.com/event/9-10-unavailable-2/
END:VEVENT
BEGIN:VEVENT
DTSTART;VALUE=DATE:20211125
DTEND;VALUE=DATE:20211127
DTSTAMP:20260423T214134
CREATED:20201211T210038Z
LAST-MODIFIED:20201211T210038Z
UID:2895-1637798400-1637971199@johnsherrard.com
SUMMARY:Courthouse/Office Closed -
DESCRIPTION:
URL:https://johnsherrard.com/event/courthouse-office-closed-19/
END:VEVENT
BEGIN:VEVENT
DTSTART;TZID=America/New_York:20211122T080000
DTEND;TZID=America/New_York:20211130T170000
DTSTAMP:20260423T214134
CREATED:20210929T192527Z
LAST-MODIFIED:20210929T192527Z
UID:3609-1637568000-1638291600@johnsherrard.com
SUMMARY:Unavail
DESCRIPTION:
URL:https://johnsherrard.com/event/unavail-16/
END:VEVENT
BEGIN:VEVENT
DTSTART;TZID=America/New_York:20211122T080000
DTEND;TZID=America/New_York:20211124T170000
DTSTAMP:20260423T214134
CREATED:20211018T132205Z
LAST-MODIFIED:20211018T132205Z
UID:3638-1637568000-1637773200@johnsherrard.com
SUMMARY:Unavailable
DESCRIPTION:
URL:https://johnsherrard.com/event/unavailable-42/
END:VEVENT
BEGIN:VEVENT
DTSTART;TZID=America/New_York:20211119T103000
DTEND;TZID=America/New_York:20211119T170000
DTSTAMP:20260423T214134
CREATED:20211012T141108Z
LAST-MODIFIED:20211012T141108Z
UID:3632-1637317800-1637341200@johnsherrard.com
SUMMARY:Janine Bartels
DESCRIPTION:Good morning\, \nWe would like to scheduled mediation for November 19th in Smith v. Smith\, Case No.: 2021-DR-1112. Please let me know how this can be scheduled. My email address is assistant@aimeegrosspa.com. \nThank you\, \nJanine Bartels\, Legal Assistant
URL:https://johnsherrard.com/event/janine-bartels/
END:VEVENT
BEGIN:VEVENT
DTSTART;TZID=America/New_York:20211119T080000
DTEND;TZID=America/New_York:20211119T170000
DTSTAMP:20260423T214134
CREATED:20211019T173549Z
LAST-MODIFIED:20211019T173549Z
UID:3659-1637308800-1637341200@johnsherrard.com
SUMMARY:9 - 5 HOLD
DESCRIPTION:
URL:https://johnsherrard.com/event/9-5-hold-4/
END:VEVENT
BEGIN:VEVENT
DTSTART;TZID=America/New_York:20211118T090000
DTEND;TZID=America/New_York:20211118T100000
DTSTAMP:20260423T214134
CREATED:20211022T143528Z
LAST-MODIFIED:20211022T143528Z
UID:3670-1637226000-1637229600@johnsherrard.com
SUMMARY:9 - 10 BOD
DESCRIPTION:
URL:https://johnsherrard.com/event/9-10-bod/
END:VEVENT
BEGIN:VEVENT
DTSTART;TZID=UTC:20211118T083000
DTEND;TZID=UTC:20211118T100000
DTSTAMP:20260423T214134
CREATED:20201015T174010Z
LAST-MODIFIED:20201015T174010Z
UID:2814-1637224200-1637229600@johnsherrard.com
SUMMARY:Unavailable
DESCRIPTION:
URL:https://johnsherrard.com/event/unavailable-54/
END:VEVENT
BEGIN:VEVENT
DTSTART;TZID=America/New_York:20211117T080000
DTEND;TZID=America/New_York:20211117T170000
DTSTAMP:20260423T214134
CREATED:20210929T192434Z
LAST-MODIFIED:20210929T192434Z
UID:3605-1637136000-1637168400@johnsherrard.com
SUMMARY:Unavail
DESCRIPTION:
URL:https://johnsherrard.com/event/unavail-14/
END:VEVENT
BEGIN:VEVENT
DTSTART;TZID=America/New_York:20211116T080000
DTEND;TZID=America/New_York:20211116T170000
DTSTAMP:20260423T214134
CREATED:20211021T145358Z
LAST-MODIFIED:20211021T145358Z
UID:3666-1637049600-1637082000@johnsherrard.com
SUMMARY:Unavail
DESCRIPTION:
URL:https://johnsherrard.com/event/unavail-22/
END:VEVENT
BEGIN:VEVENT
DTSTART;TZID=America/New_York:20211115T080000
DTEND;TZID=America/New_York:20211115T170000
DTSTAMP:20260423T214134
CREATED:20211019T173527Z
LAST-MODIFIED:20211019T173527Z
UID:3657-1636963200-1636995600@johnsherrard.com
SUMMARY:9 - 5 HOLD
DESCRIPTION:
URL:https://johnsherrard.com/event/9-5-hold-3/
END:VEVENT
BEGIN:VEVENT
DTSTART;TZID=America/New_York:20211112T100000
DTEND;TZID=America/New_York:20211112T100000
DTSTAMP:20260423T214134
CREATED:20211004T151847Z
LAST-MODIFIED:20211004T151847Z
UID:3619-1636711200-1636711200@johnsherrard.com
SUMMARY:Chet Weinbaum
DESCRIPTION:Mediation for Martin County Divorce\nHalf day starting at 10 am.\n								CASE NO.:  2021DR000404\nIN RE:  The Marriage of: \nMICHELLE DOMINGUEZ\,\n	Petitioner/Wife\,\nand \nJOSHUA DOMINGUEZ\n	Respondent/Husband.\n_________________________/
URL:https://johnsherrard.com/event/chet-weinbaum-3/
END:VEVENT
BEGIN:VEVENT
DTSTART;VALUE=DATE:20211111
DTEND;VALUE=DATE:20211112
DTSTAMP:20260423T214134
CREATED:20201211T210005Z
LAST-MODIFIED:20201211T210005Z
UID:2893-1636588800-1636675199@johnsherrard.com
SUMMARY:Courthouse/Office Closed -
DESCRIPTION:
URL:https://johnsherrard.com/event/courthouse-office-closed-18/
END:VEVENT
BEGIN:VEVENT
DTSTART;TZID=America/New_York:20211110T090000
DTEND;TZID=America/New_York:20211110T170000
DTSTAMP:20260423T214134
CREATED:20211012T185551Z
LAST-MODIFIED:20211012T185551Z
UID:3634-1636534800-1636563600@johnsherrard.com
SUMMARY:9 - 5 mediation
DESCRIPTION:
URL:https://johnsherrard.com/event/9-5-mediation-18/
END:VEVENT
BEGIN:VEVENT
DTSTART;TZID=America/New_York:20211109T090000
DTEND;TZID=America/New_York:20211109T170000
DTSTAMP:20260423T214134
CREATED:20211021T125205Z
LAST-MODIFIED:20211021T125205Z
UID:3664-1636448400-1636477200@johnsherrard.com
SUMMARY:Unavail.
DESCRIPTION:
URL:https://johnsherrard.com/event/unavail-20/
END:VEVENT
BEGIN:VEVENT
DTSTART;TZID=America/New_York:20211108T100000
DTEND;TZID=America/New_York:20211108T150000
DTSTAMP:20260423T214134
CREATED:20211011T204035Z
LAST-MODIFIED:20211011T204035Z
UID:3623-1636365600-1636383600@johnsherrard.com
SUMMARY:Audrey Rivers - Law office of Denise Miller
DESCRIPTION:Russell v Russell\n2021 DR 523 \nMiller Attorney for Petitioner/Husband\nDefenderdenise@comcast.net\, Dmillerlawassistant@gmail.com  \nCurt Sanchez- Attorney for Respondent\ntomcolter@lawpatriot.com
URL:https://johnsherrard.com/event/audrey-rivers-law-office-of-denise-miller/
END:VEVENT
BEGIN:VEVENT
DTSTART;TZID=America/New_York:20211105T090000
DTEND;TZID=America/New_York:20211105T170000
DTSTAMP:20260423T214134
CREATED:20211025T155830Z
LAST-MODIFIED:20211025T155830Z
UID:3695-1636102800-1636131600@johnsherrard.com
SUMMARY:9 - 5 unavail
DESCRIPTION:
URL:https://johnsherrard.com/event/9-5-unavail-31/
END:VEVENT
BEGIN:VEVENT
DTSTART;TZID=America/New_York:20211104T090000
DTEND;TZID=America/New_York:20211104T120000
DTSTAMP:20260423T214134
CREATED:20211021T172036Z
LAST-MODIFIED:20211021T172036Z
UID:3668-1636016400-1636027200@johnsherrard.com
SUMMARY:Leanne Ohle
DESCRIPTION:
URL:https://johnsherrard.com/event/leanne-ohle/
END:VEVENT
BEGIN:VEVENT
DTSTART;TZID=America/New_York:20211102T090000
DTEND;TZID=America/New_York:20211102T170000
DTSTAMP:20260423T214134
CREATED:20211011T205452Z
LAST-MODIFIED:20211011T205452Z
UID:3626-1635843600-1635872400@johnsherrard.com
SUMMARY:9 - 5 unavail
DESCRIPTION:
URL:https://johnsherrard.com/event/9-5-unavail-28/
END:VEVENT
BEGIN:VEVENT
DTSTART;TZID=America/New_York:20211101T140000
DTEND;TZID=America/New_York:20211101T150000
DTSTAMP:20260423T214134
CREATED:20210929T191827Z
LAST-MODIFIED:20210929T191827Z
UID:3599-1635775200-1635778800@johnsherrard.com
SUMMARY:2 - 3 unavail
DESCRIPTION:
URL:https://johnsherrard.com/event/2-3-unavail-5/
END:VEVENT
BEGIN:VEVENT
DTSTART;TZID=America/New_York:20211028T090000
DTEND;TZID=America/New_York:20211028T170000
DTSTAMP:20260423T214134
CREATED:20210816T175445Z
LAST-MODIFIED:20210816T175445Z
UID:3521-1635411600-1635440400@johnsherrard.com
SUMMARY:9 - 5 depositions
DESCRIPTION:
URL:https://johnsherrard.com/event/9-5-depositions-9/
END:VEVENT
BEGIN:VEVENT
DTSTART;TZID=America/New_York:20211027T090000
DTEND;TZID=America/New_York:20211027T170000
DTSTAMP:20260423T214134
CREATED:20210928T194634Z
LAST-MODIFIED:20210928T194634Z
UID:3594-1635325200-1635354000@johnsherrard.com
SUMMARY:9 - 5 Mediation
DESCRIPTION:
URL:https://johnsherrard.com/event/9-5-mediation-17/
END:VEVENT
BEGIN:VEVENT
DTSTART;TZID=America/New_York:20211026T160000
DTEND;TZID=America/New_York:20211026T170000
DTSTAMP:20260423T214134
CREATED:20210416T171433Z
LAST-MODIFIED:20210416T171433Z
UID:3369-1635264000-1635267600@johnsherrard.com
SUMMARY:4 - 5 unavail
DESCRIPTION:
URL:https://johnsherrard.com/event/4-5-unavail-5/
END:VEVENT
BEGIN:VEVENT
DTSTART;TZID=America/New_York:20211022T090000
DTEND;TZID=America/New_York:20211022T170000
DTSTAMP:20260423T214134
CREATED:20210816T155300Z
LAST-MODIFIED:20210816T155300Z
UID:3518-1634893200-1634922000@johnsherrard.com
SUMMARY:9 - 5 depositions
DESCRIPTION:
URL:https://johnsherrard.com/event/9-5-depositions-10/
END:VEVENT
BEGIN:VEVENT
DTSTART;TZID=America/New_York:20211022T090000
DTEND;TZID=America/New_York:20211022T100000
DTSTAMP:20260423T214134
CREATED:20211022T143855Z
LAST-MODIFIED:20211022T143855Z
UID:3684-1634893200-1634896800@johnsherrard.com
SUMMARY:9 - 10 BOD
DESCRIPTION:
URL:https://johnsherrard.com/event/9-10-bod-8/
END:VEVENT
BEGIN:VEVENT
DTSTART;TZID=UTC:20211021T083000
DTEND;TZID=UTC:20211021T100000
DTSTAMP:20260423T214134
CREATED:20201015T173938Z
LAST-MODIFIED:20201015T173938Z
UID:2812-1634805000-1634810400@johnsherrard.com
SUMMARY:Unavailable
DESCRIPTION:
URL:https://johnsherrard.com/event/unavailable-53/
END:VEVENT
BEGIN:VEVENT
DTSTART;TZID=America/New_York:20211018T100000
DTEND;TZID=America/New_York:20211018T170000
DTSTAMP:20260423T214134
CREATED:20210802T145340Z
LAST-MODIFIED:20210802T145340Z
UID:3503-1634551200-1634576400@johnsherrard.com
SUMMARY:10 - 5 Mediation
DESCRIPTION:
URL:https://johnsherrard.com/event/10-5-mediation-20/
END:VEVENT
BEGIN:VEVENT
DTSTART;TZID=America/New_York:20211018T090000
DTEND;TZID=America/New_York:20211018T170000
DTSTAMP:20260423T214134
CREATED:20211018T143123Z
LAST-MODIFIED:20211018T143123Z
UID:3642-1634547600-1634576400@johnsherrard.com
SUMMARY:Unavail.
DESCRIPTION:
URL:https://johnsherrard.com/event/unavail-13/
END:VEVENT
BEGIN:VEVENT
DTSTART;TZID=America/New_York:20211012T100000
DTEND;TZID=America/New_York:20211012T100000
DTSTAMP:20260423T214134
CREATED:20210820T185051Z
LAST-MODIFIED:20210820T185051Z
UID:3552-1634032800-1634032800@johnsherrard.com
SUMMARY:Joseph Gufford
DESCRIPTION:Mediation\nCushman and Cushman\nSLC Case No:   2020-DR-2613 \nI had previously reserved 9/29 but couldn’t take it off your calendar\, sorry!
URL:https://johnsherrard.com/event/joseph-gufford-2/
END:VEVENT
BEGIN:VEVENT
DTSTART;TZID=America/New_York:20211011T080000
DTEND;TZID=America/New_York:20211029T170000
DTSTAMP:20260423T214134
CREATED:20210929T192254Z
LAST-MODIFIED:20210929T192254Z
UID:3601-1633939200-1635526800@johnsherrard.com
SUMMARY:9 - 5 unavail
DESCRIPTION:
URL:https://johnsherrard.com/event/9-5-unavail-27/
END:VEVENT
END:VCALENDAR