BEGIN:VCALENDAR
VERSION:2.0
PRODID:-//Sherrard Law Group - ECPv6.15.20//NONSGML v1.0//EN
CALSCALE:GREGORIAN
METHOD:PUBLISH
X-WR-CALNAME:Sherrard Law Group
X-ORIGINAL-URL:https://johnsherrard.com
X-WR-CALDESC:Events for Sherrard Law Group
REFRESH-INTERVAL;VALUE=DURATION:PT1H
X-Robots-Tag:noindex
X-PUBLISHED-TTL:PT1H
BEGIN:VTIMEZONE
TZID:America/New_York
BEGIN:DAYLIGHT
TZOFFSETFROM:-0500
TZOFFSETTO:-0400
TZNAME:EDT
DTSTART:20200308T070000
END:DAYLIGHT
BEGIN:STANDARD
TZOFFSETFROM:-0400
TZOFFSETTO:-0500
TZNAME:EST
DTSTART:20201101T060000
END:STANDARD
BEGIN:DAYLIGHT
TZOFFSETFROM:-0500
TZOFFSETTO:-0400
TZNAME:EDT
DTSTART:20210314T070000
END:DAYLIGHT
BEGIN:STANDARD
TZOFFSETFROM:-0400
TZOFFSETTO:-0500
TZNAME:EST
DTSTART:20211107T060000
END:STANDARD
BEGIN:DAYLIGHT
TZOFFSETFROM:-0500
TZOFFSETTO:-0400
TZNAME:EDT
DTSTART:20220313T070000
END:DAYLIGHT
BEGIN:STANDARD
TZOFFSETFROM:-0400
TZOFFSETTO:-0500
TZNAME:EST
DTSTART:20221106T060000
END:STANDARD
BEGIN:DAYLIGHT
TZOFFSETFROM:-0500
TZOFFSETTO:-0400
TZNAME:EDT
DTSTART:20230312T070000
END:DAYLIGHT
BEGIN:STANDARD
TZOFFSETFROM:-0400
TZOFFSETTO:-0500
TZNAME:EST
DTSTART:20231105T060000
END:STANDARD
END:VTIMEZONE
BEGIN:VTIMEZONE
TZID:UTC
BEGIN:STANDARD
TZOFFSETFROM:+0000
TZOFFSETTO:+0000
TZNAME:UTC
DTSTART:20200101T000000
END:STANDARD
END:VTIMEZONE
BEGIN:VEVENT
DTSTART;TZID=America/New_York:20220111T130000
DTEND;TZID=America/New_York:20220111T170000
DTSTAMP:20260423T193157
CREATED:20211130T153443Z
LAST-MODIFIED:20211130T153443Z
UID:3873-1641906000-1641920400@johnsherrard.com
SUMMARY:1 - 5 unavailable
DESCRIPTION:
URL:https://johnsherrard.com/event/1-5-unavailable-8/
END:VEVENT
BEGIN:VEVENT
DTSTART;TZID=America/New_York:20220111T130000
DTEND;TZID=America/New_York:20220111T170000
DTSTAMP:20260423T193157
CREATED:20211123T221411Z
LAST-MODIFIED:20211123T221411Z
UID:3872-1641906000-1641920400@johnsherrard.com
SUMMARY:Chet Weinbaum
DESCRIPTION:Fisher v. Dramble\nPartition Action
URL:https://johnsherrard.com/event/chet-weinbaum-4/
END:VEVENT
BEGIN:VEVENT
DTSTART;TZID=America/New_York:20220110T093000
DTEND;TZID=America/New_York:20220110T170000
DTSTAMP:20260423T193157
CREATED:20211221T135028Z
LAST-MODIFIED:20211221T135028Z
UID:3884-1641807000-1641834000@johnsherrard.com
SUMMARY:9:30 - 5 mediation
DESCRIPTION:
URL:https://johnsherrard.com/event/930-5/
END:VEVENT
BEGIN:VEVENT
DTSTART;TZID=America/New_York:20220107T100000
DTEND;TZID=America/New_York:20220107T170000
DTSTAMP:20260423T193157
CREATED:20211220T180603Z
LAST-MODIFIED:20211220T180603Z
UID:3882-1641549600-1641574800@johnsherrard.com
SUMMARY:10 - 5 unavailable
DESCRIPTION:
URL:https://johnsherrard.com/event/10-5-unavailable-5/
END:VEVENT
BEGIN:VEVENT
DTSTART;TZID=America/New_York:20220106T090000
DTEND;TZID=America/New_York:20220106T170000
DTSTAMP:20260423T193157
CREATED:20211116T153500Z
LAST-MODIFIED:20211116T153500Z
UID:3864-1641459600-1641488400@johnsherrard.com
SUMMARY:9 - 1 Mediation
DESCRIPTION:
URL:https://johnsherrard.com/event/9-1-mediation-3/
END:VEVENT
BEGIN:VEVENT
DTSTART;TZID=America/New_York:20220104T090000
DTEND;TZID=America/New_York:20220104T170000
DTSTAMP:20260423T193158
CREATED:20211202T185140Z
LAST-MODIFIED:20211202T185140Z
UID:3747-1641286800-1641315600@johnsherrard.com
SUMMARY:9 - 5 mediation
DESCRIPTION:
URL:https://johnsherrard.com/event/9-5-mediation-19/
END:VEVENT
BEGIN:VEVENT
DTSTART;TZID=America/New_York:20211231T080000
DTEND;TZID=America/New_York:20211231T170000
DTSTAMP:20260423T193158
CREATED:20210921T191059Z
LAST-MODIFIED:20210921T191059Z
UID:3562-1640937600-1640970000@johnsherrard.com
SUMMARY:Courthouse/Office Closed
DESCRIPTION:
URL:https://johnsherrard.com/event/courthouse-office-closed-21/
END:VEVENT
BEGIN:VEVENT
DTSTART;TZID=America/New_York:20211229T080000
DTEND;TZID=America/New_York:20211229T170000
DTSTAMP:20260423T193158
CREATED:20211119T151700Z
LAST-MODIFIED:20211119T151700Z
UID:3868-1640764800-1640797200@johnsherrard.com
SUMMARY:unavail
DESCRIPTION:
URL:https://johnsherrard.com/event/unavail-24/
END:VEVENT
BEGIN:VEVENT
DTSTART;TZID=America/New_York:20211228T090000
DTEND;TZID=America/New_York:20211228T170000
DTSTAMP:20260423T193158
CREATED:20211112T173141Z
LAST-MODIFIED:20211112T173141Z
UID:3862-1640682000-1640710800@johnsherrard.com
SUMMARY:The Chesnutt Law Firm
DESCRIPTION:Poirier V Perez Lopez\n562019DR000860
URL:https://johnsherrard.com/event/the-chesnutt-law-firm/
END:VEVENT
BEGIN:VEVENT
DTSTART;TZID=America/New_York:20211228T080000
DTEND;TZID=America/New_York:20211228T170000
DTSTAMP:20260423T193158
CREATED:20211119T151644Z
LAST-MODIFIED:20211119T151644Z
UID:3867-1640678400-1640710800@johnsherrard.com
SUMMARY:unavail
DESCRIPTION:
URL:https://johnsherrard.com/event/unavail-23/
END:VEVENT
BEGIN:VEVENT
DTSTART;TZID=America/New_York:20211221T100000
DTEND;TZID=America/New_York:20211221T170000
DTSTAMP:20260423T193158
CREATED:20211110T183646Z
LAST-MODIFIED:20211110T183646Z
UID:3712-1640080800-1640106000@johnsherrard.com
SUMMARY:10 - 5 unavail
DESCRIPTION:
URL:https://johnsherrard.com/event/10-5-unavail-3/
END:VEVENT
BEGIN:VEVENT
DTSTART;TZID=America/New_York:20211220T100000
DTEND;TZID=America/New_York:20211220T170000
DTSTAMP:20260423T193158
CREATED:20211220T155021Z
LAST-MODIFIED:20211220T155021Z
UID:3881-1639994400-1640019600@johnsherrard.com
SUMMARY:10 - 5 unavailable
DESCRIPTION:
URL:https://johnsherrard.com/event/10-5-unavailable-4/
END:VEVENT
BEGIN:VEVENT
DTSTART;TZID=America/New_York:20211220T080000
DTEND;TZID=America/New_York:20211224T170000
DTSTAMP:20260423T193158
CREATED:20211006T133824Z
LAST-MODIFIED:20211006T133824Z
UID:3621-1639987200-1640365200@johnsherrard.com
SUMMARY:unavail
DESCRIPTION:
URL:https://johnsherrard.com/event/unavail-21/
END:VEVENT
BEGIN:VEVENT
DTSTART;TZID=America/New_York:20211217T100000
DTEND;TZID=America/New_York:20211217T170000
DTSTAMP:20260423T193158
CREATED:20210929T185724Z
LAST-MODIFIED:20210929T185724Z
UID:3596-1639735200-1639760400@johnsherrard.com
SUMMARY:Cindy West
DESCRIPTION:
URL:https://johnsherrard.com/event/cindy-west/
END:VEVENT
BEGIN:VEVENT
DTSTART;TZID=America/New_York:20211216T090000
DTEND;TZID=America/New_York:20211216T100000
DTSTAMP:20260423T193158
CREATED:20211022T143603Z
LAST-MODIFIED:20211022T143603Z
UID:3672-1639645200-1639648800@johnsherrard.com
SUMMARY:9 - 10 BOD
DESCRIPTION:
URL:https://johnsherrard.com/event/9-10-bod-2/
END:VEVENT
BEGIN:VEVENT
DTSTART;TZID=UTC:20211216T083000
DTEND;TZID=UTC:20211216T100000
DTSTAMP:20260423T193158
CREATED:20201015T174043Z
LAST-MODIFIED:20201015T174043Z
UID:2817-1639643400-1639648800@johnsherrard.com
SUMMARY:Unavailable
DESCRIPTION:
URL:https://johnsherrard.com/event/unavailable-55/
END:VEVENT
BEGIN:VEVENT
DTSTART;TZID=America/New_York:20211215T080000
DTEND;TZID=America/New_York:20211217T170000
DTSTAMP:20260423T193158
CREATED:20210929T192820Z
LAST-MODIFIED:20210929T192820Z
UID:3613-1639555200-1639760400@johnsherrard.com
SUMMARY:Unavail
DESCRIPTION:
URL:https://johnsherrard.com/event/unavail-18/
END:VEVENT
BEGIN:VEVENT
DTSTART;TZID=America/New_York:20211214T090000
DTEND;TZID=America/New_York:20211214T170000
DTSTAMP:20260423T193158
CREATED:20211011T205608Z
LAST-MODIFIED:20211011T205608Z
UID:3630-1639472400-1639501200@johnsherrard.com
SUMMARY:9 - 5 unavail
DESCRIPTION:
URL:https://johnsherrard.com/event/9-5-unavail-30/
END:VEVENT
BEGIN:VEVENT
DTSTART;TZID=America/New_York:20211207T080000
DTEND;TZID=America/New_York:20211213T170000
DTSTAMP:20260423T193158
CREATED:20210929T192757Z
LAST-MODIFIED:20210929T192757Z
UID:3611-1638864000-1639414800@johnsherrard.com
SUMMARY:Unavail
DESCRIPTION:
URL:https://johnsherrard.com/event/unavail-17/
END:VEVENT
BEGIN:VEVENT
DTSTART;TZID=America/New_York:20211203T090000
DTEND;TZID=America/New_York:20211203T110000
DTSTAMP:20260423T193158
CREATED:20211018T132410Z
LAST-MODIFIED:20211018T132410Z
UID:3640-1638522000-1638529200@johnsherrard.com
SUMMARY:Melissa Wheeler
DESCRIPTION:Joseph Saccal v. Stacy Saccal\nCase No. 562021DR002247
URL:https://johnsherrard.com/event/melissa-wheeler/
END:VEVENT
BEGIN:VEVENT
DTSTART;TZID=America/New_York:20211202T090000
DTEND;TZID=America/New_York:20211202T170000
DTSTAMP:20260423T193158
CREATED:20211011T205540Z
LAST-MODIFIED:20211011T205540Z
UID:3628-1638435600-1638464400@johnsherrard.com
SUMMARY:9 - 5 unavail
DESCRIPTION:
URL:https://johnsherrard.com/event/9-5-unavail-29/
END:VEVENT
BEGIN:VEVENT
DTSTART;TZID=America/New_York:20211201T103000
DTEND;TZID=America/New_York:20211201T170000
DTSTAMP:20260423T193158
CREATED:20211013T201839Z
LAST-MODIFIED:20211013T201839Z
UID:3636-1638354600-1638378000@johnsherrard.com
SUMMARY:10:30 - 5 mediation
DESCRIPTION:
URL:https://johnsherrard.com/event/1030-5-mediation/
END:VEVENT
BEGIN:VEVENT
DTSTART;TZID=America/New_York:20211130T130000
DTEND;TZID=America/New_York:20211130T170000
DTSTAMP:20260423T193158
CREATED:20210924T134838Z
LAST-MODIFIED:20210924T134838Z
UID:3592-1638277200-1638291600@johnsherrard.com
SUMMARY:1 - 5 unavail
DESCRIPTION:
URL:https://johnsherrard.com/event/1-5-unavail-8/
END:VEVENT
BEGIN:VEVENT
DTSTART;TZID=America/New_York:20211129T130000
DTEND;TZID=America/New_York:20211129T170000
DTSTAMP:20260423T193158
CREATED:20211019T173459Z
LAST-MODIFIED:20211019T173459Z
UID:3655-1638190800-1638205200@johnsherrard.com
SUMMARY:1 - 5 unavail
DESCRIPTION:
URL:https://johnsherrard.com/event/1-5-unavail-9/
END:VEVENT
BEGIN:VEVENT
DTSTART;TZID=America/New_York:20211129T090000
DTEND;TZID=America/New_York:20211129T100000
DTSTAMP:20260423T193158
CREATED:20211019T173437Z
LAST-MODIFIED:20211019T173437Z
UID:3653-1638176400-1638180000@johnsherrard.com
SUMMARY:9 - 10 unavailable
DESCRIPTION:
URL:https://johnsherrard.com/event/9-10-unavailable-2/
END:VEVENT
BEGIN:VEVENT
DTSTART;VALUE=DATE:20211125
DTEND;VALUE=DATE:20211127
DTSTAMP:20260423T193158
CREATED:20201211T210038Z
LAST-MODIFIED:20201211T210038Z
UID:2895-1637798400-1637971199@johnsherrard.com
SUMMARY:Courthouse/Office Closed -
DESCRIPTION:
URL:https://johnsherrard.com/event/courthouse-office-closed-19/
END:VEVENT
BEGIN:VEVENT
DTSTART;TZID=America/New_York:20211122T080000
DTEND;TZID=America/New_York:20211130T170000
DTSTAMP:20260423T193158
CREATED:20210929T192527Z
LAST-MODIFIED:20210929T192527Z
UID:3609-1637568000-1638291600@johnsherrard.com
SUMMARY:Unavail
DESCRIPTION:
URL:https://johnsherrard.com/event/unavail-16/
END:VEVENT
BEGIN:VEVENT
DTSTART;TZID=America/New_York:20211122T080000
DTEND;TZID=America/New_York:20211124T170000
DTSTAMP:20260423T193158
CREATED:20211018T132205Z
LAST-MODIFIED:20211018T132205Z
UID:3638-1637568000-1637773200@johnsherrard.com
SUMMARY:Unavailable
DESCRIPTION:
URL:https://johnsherrard.com/event/unavailable-42/
END:VEVENT
BEGIN:VEVENT
DTSTART;TZID=America/New_York:20211119T103000
DTEND;TZID=America/New_York:20211119T170000
DTSTAMP:20260423T193158
CREATED:20211012T141108Z
LAST-MODIFIED:20211012T141108Z
UID:3632-1637317800-1637341200@johnsherrard.com
SUMMARY:Janine Bartels
DESCRIPTION:Good morning\, \nWe would like to scheduled mediation for November 19th in Smith v. Smith\, Case No.: 2021-DR-1112. Please let me know how this can be scheduled. My email address is assistant@aimeegrosspa.com. \nThank you\, \nJanine Bartels\, Legal Assistant
URL:https://johnsherrard.com/event/janine-bartels/
END:VEVENT
BEGIN:VEVENT
DTSTART;TZID=America/New_York:20211119T080000
DTEND;TZID=America/New_York:20211119T170000
DTSTAMP:20260423T193158
CREATED:20211019T173549Z
LAST-MODIFIED:20211019T173549Z
UID:3659-1637308800-1637341200@johnsherrard.com
SUMMARY:9 - 5 HOLD
DESCRIPTION:
URL:https://johnsherrard.com/event/9-5-hold-4/
END:VEVENT
END:VCALENDAR