BEGIN:VCALENDAR
VERSION:2.0
PRODID:-//Sherrard Law Group - ECPv6.15.20//NONSGML v1.0//EN
CALSCALE:GREGORIAN
METHOD:PUBLISH
X-WR-CALNAME:Sherrard Law Group
X-ORIGINAL-URL:https://johnsherrard.com
X-WR-CALDESC:Events for Sherrard Law Group
REFRESH-INTERVAL;VALUE=DURATION:PT1H
X-Robots-Tag:noindex
X-PUBLISHED-TTL:PT1H
BEGIN:VTIMEZONE
TZID:America/New_York
BEGIN:DAYLIGHT
TZOFFSETFROM:-0500
TZOFFSETTO:-0400
TZNAME:EDT
DTSTART:20210314T070000
END:DAYLIGHT
BEGIN:STANDARD
TZOFFSETFROM:-0400
TZOFFSETTO:-0500
TZNAME:EST
DTSTART:20211107T060000
END:STANDARD
BEGIN:DAYLIGHT
TZOFFSETFROM:-0500
TZOFFSETTO:-0400
TZNAME:EDT
DTSTART:20220313T070000
END:DAYLIGHT
BEGIN:STANDARD
TZOFFSETFROM:-0400
TZOFFSETTO:-0500
TZNAME:EST
DTSTART:20221106T060000
END:STANDARD
BEGIN:DAYLIGHT
TZOFFSETFROM:-0500
TZOFFSETTO:-0400
TZNAME:EDT
DTSTART:20230312T070000
END:DAYLIGHT
BEGIN:STANDARD
TZOFFSETFROM:-0400
TZOFFSETTO:-0500
TZNAME:EST
DTSTART:20231105T060000
END:STANDARD
END:VTIMEZONE
BEGIN:VEVENT
DTSTART;TZID=America/New_York:20220217T080000
DTEND;TZID=America/New_York:20220217T170000
DTSTAMP:20260423T171413
CREATED:20220201T202246Z
LAST-MODIFIED:20220201T202246Z
UID:3915-1645084800-1645117200@johnsherrard.com
SUMMARY:Unavail.
DESCRIPTION:
URL:https://johnsherrard.com/event/unavail-39/
END:VEVENT
BEGIN:VEVENT
DTSTART;TZID=America/New_York:20220216T093000
DTEND;TZID=America/New_York:20220216T170000
DTSTAMP:20260423T171413
CREATED:20211221T134038Z
LAST-MODIFIED:20211221T134038Z
UID:3883-1645003800-1645030800@johnsherrard.com
SUMMARY:9 - 5 unavailable
DESCRIPTION:
URL:https://johnsherrard.com/event/9-5-unavailable-36/
END:VEVENT
BEGIN:VEVENT
DTSTART;TZID=America/New_York:20220211T133000
DTEND;TZID=America/New_York:20220211T150000
DTSTAMP:20260423T171413
CREATED:20211102T130312Z
LAST-MODIFIED:20211102T130312Z
UID:3705-1644586200-1644591600@johnsherrard.com
SUMMARY:Family Law meeting
DESCRIPTION:
URL:https://johnsherrard.com/event/family-law-meeting/
END:VEVENT
BEGIN:VEVENT
DTSTART;TZID=America/New_York:20220210T100000
DTEND;TZID=America/New_York:20220210T170000
DTSTAMP:20260423T171413
CREATED:20211119T154104Z
LAST-MODIFIED:20211119T154104Z
UID:3871-1644487200-1644512400@johnsherrard.com
SUMMARY:10 - 5 Mediation
DESCRIPTION:
URL:https://johnsherrard.com/event/10-5-mediation-22/
END:VEVENT
BEGIN:VEVENT
DTSTART;TZID=America/New_York:20220209T080000
DTEND;TZID=America/New_York:20220209T170000
DTSTAMP:20260423T171413
CREATED:20211228T153152Z
LAST-MODIFIED:20211228T153152Z
UID:3887-1644393600-1644426000@johnsherrard.com
SUMMARY:2 - 5 unavail
DESCRIPTION:
URL:https://johnsherrard.com/event/2-5-unavail-11/
END:VEVENT
BEGIN:VEVENT
DTSTART;TZID=America/New_York:20220208T080000
DTEND;TZID=America/New_York:20220208T170000
DTSTAMP:20260423T171413
CREATED:20211018T144019Z
LAST-MODIFIED:20211018T144019Z
UID:3650-1644307200-1644339600@johnsherrard.com
SUMMARY:Unavail.
DESCRIPTION:
URL:https://johnsherrard.com/event/unavail-19/
END:VEVENT
BEGIN:VEVENT
DTSTART;TZID=America/New_York:20220207T100000
DTEND;TZID=America/New_York:20220207T170000
DTSTAMP:20260423T171413
CREATED:20211118T203507Z
LAST-MODIFIED:20211118T203507Z
UID:3725-1644228000-1644253200@johnsherrard.com
SUMMARY:10 - 5 mediation
DESCRIPTION:
URL:https://johnsherrard.com/event/10-5-mediation-21/
END:VEVENT
BEGIN:VEVENT
DTSTART;TZID=America/New_York:20220204T080000
DTEND;TZID=America/New_York:20220204T170000
DTSTAMP:20260423T171413
CREATED:20211206T205137Z
LAST-MODIFIED:20211206T205137Z
UID:3877-1643961600-1643994000@johnsherrard.com
SUMMARY:9 - 5 unavail
DESCRIPTION:
URL:https://johnsherrard.com/event/9-5-unavail-33/
END:VEVENT
BEGIN:VEVENT
DTSTART;TZID=America/New_York:20220203T080000
DTEND;TZID=America/New_York:20220203T170000
DTSTAMP:20260423T171413
CREATED:20211206T205120Z
LAST-MODIFIED:20211206T205120Z
UID:3876-1643875200-1643907600@johnsherrard.com
SUMMARY:9 - 5 unavail
DESCRIPTION:
URL:https://johnsherrard.com/event/9-5-unavail-32/
END:VEVENT
BEGIN:VEVENT
DTSTART;TZID=America/New_York:20220202T080000
DTEND;TZID=America/New_York:20220202T170000
DTSTAMP:20260423T171413
CREATED:20220106T152825Z
LAST-MODIFIED:20220106T152825Z
UID:3900-1643788800-1643821200@johnsherrard.com
SUMMARY:Unavail
DESCRIPTION:
URL:https://johnsherrard.com/event/unavail-37/
END:VEVENT
BEGIN:VEVENT
DTSTART;TZID=America/New_York:20220201T090000
DTEND;TZID=America/New_York:20220201T120000
DTSTAMP:20260423T171413
CREATED:20211220T184116Z
LAST-MODIFIED:20211220T184116Z
UID:3777-1643706000-1643716800@johnsherrard.com
SUMMARY:Sherri Mora
DESCRIPTION:
URL:https://johnsherrard.com/event/sherri-mora/
END:VEVENT
BEGIN:VEVENT
DTSTART;TZID=America/New_York:20220127T090000
DTEND;TZID=America/New_York:20220127T170000
DTSTAMP:20260423T171413
CREATED:20211213T164842Z
LAST-MODIFIED:20211213T164842Z
UID:3879-1643274000-1643302800@johnsherrard.com
SUMMARY:9 - 5 Mediation
DESCRIPTION:
URL:https://johnsherrard.com/event/9-5-mediation-20/
END:VEVENT
BEGIN:VEVENT
DTSTART;TZID=America/New_York:20220126T080000
DTEND;TZID=America/New_York:20220126T170000
DTSTAMP:20260423T171413
CREATED:20211115T185119Z
LAST-MODIFIED:20211115T185119Z
UID:3863-1643184000-1643216400@johnsherrard.com
SUMMARY:Hold - Cheryl/Gufford
DESCRIPTION:
URL:https://johnsherrard.com/event/hold-cheryl-gufford/
END:VEVENT
BEGIN:VEVENT
DTSTART;TZID=America/New_York:20220124T090000
DTEND;TZID=America/New_York:20220124T090000
DTSTAMP:20260423T171413
CREATED:20220103T131809Z
LAST-MODIFIED:20220103T131809Z
UID:3899-1643014800-1643014800@johnsherrard.com
SUMMARY:Mediation
DESCRIPTION:I would like to Reserve the Morning of January 24 for mediation.\nKirkpatrick v McGarry 562021DR2734\nAtty for Petitioner – Sasha Dadan\nAtty for Respondent – Thomas Colter
URL:https://johnsherrard.com/event/mediation-16/
END:VEVENT
BEGIN:VEVENT
DTSTART;TZID=America/New_York:20220120T090000
DTEND;TZID=America/New_York:20220120T100000
DTSTAMP:20260423T171413
CREATED:20211022T143629Z
LAST-MODIFIED:20211022T143629Z
UID:3674-1642669200-1642672800@johnsherrard.com
SUMMARY:9 - 10 BOD
DESCRIPTION:
URL:https://johnsherrard.com/event/9-10-bod-3/
END:VEVENT
BEGIN:VEVENT
DTSTART;TZID=America/New_York:20220120T080000
DTEND;TZID=America/New_York:20220120T170000
DTSTAMP:20260423T171413
CREATED:20211119T152040Z
LAST-MODIFIED:20211119T152040Z
UID:3870-1642665600-1642698000@johnsherrard.com
SUMMARY:unavail
DESCRIPTION:
URL:https://johnsherrard.com/event/unavail-26/
END:VEVENT
BEGIN:VEVENT
DTSTART;TZID=America/New_York:20220119T100000
DTEND;TZID=America/New_York:20220119T140000
DTSTAMP:20260423T171413
CREATED:20211221T184211Z
LAST-MODIFIED:20211221T184211Z
UID:3885-1642586400-1642600800@johnsherrard.com
SUMMARY:Mediation- Barrett v. Adams
DESCRIPTION:
URL:https://johnsherrard.com/event/mediation-barrett-v-adams/
END:VEVENT
BEGIN:VEVENT
DTSTART;TZID=America/New_York:20220118T080000
DTEND;TZID=America/New_York:20220118T170000
DTSTAMP:20260423T171413
CREATED:20211119T151831Z
LAST-MODIFIED:20211119T151831Z
UID:3869-1642492800-1642525200@johnsherrard.com
SUMMARY:unavail
DESCRIPTION:
URL:https://johnsherrard.com/event/unavail-25/
END:VEVENT
BEGIN:VEVENT
DTSTART;TZID=America/New_York:20220117T080000
DTEND;TZID=America/New_York:20220117T170000
DTSTAMP:20260423T171413
CREATED:20210921T191125Z
LAST-MODIFIED:20210921T191125Z
UID:3564-1642406400-1642438800@johnsherrard.com
SUMMARY:Courthouse/Office Closed
DESCRIPTION:
URL:https://johnsherrard.com/event/courthouse-office-closed-22/
END:VEVENT
BEGIN:VEVENT
DTSTART;TZID=America/New_York:20220114T093000
DTEND;TZID=America/New_York:20220114T170000
DTSTAMP:20260423T171413
CREATED:20211116T213624Z
LAST-MODIFIED:20211116T213624Z
UID:3866-1642152600-1642179600@johnsherrard.com
SUMMARY:9:30 - 5 mediation
DESCRIPTION:
URL:https://johnsherrard.com/event/930-5-mediation-5/
END:VEVENT
BEGIN:VEVENT
DTSTART;TZID=America/New_York:20220113T130000
DTEND;TZID=America/New_York:20220113T170000
DTSTAMP:20260423T171413
CREATED:20211202T185723Z
LAST-MODIFIED:20211202T185723Z
UID:3875-1642078800-1642093200@johnsherrard.com
SUMMARY:tjs - hearing
DESCRIPTION:
URL:https://johnsherrard.com/event/tjs-hearing/
END:VEVENT
BEGIN:VEVENT
DTSTART;TZID=America/New_York:20220113T080000
DTEND;TZID=America/New_York:20220113T170000
DTSTAMP:20260423T171413
CREATED:20211206T205224Z
LAST-MODIFIED:20211206T205224Z
UID:3878-1642060800-1642093200@johnsherrard.com
SUMMARY:9 - 5
DESCRIPTION:
URL:https://johnsherrard.com/event/9-5/
END:VEVENT
BEGIN:VEVENT
DTSTART;TZID=America/New_York:20220112T140000
DTEND;TZID=America/New_York:20220112T170000
DTSTAMP:20260423T171413
CREATED:20211228T153127Z
LAST-MODIFIED:20211228T153127Z
UID:3886-1641996000-1642006800@johnsherrard.com
SUMMARY:2 - 5 unavail
DESCRIPTION:
URL:https://johnsherrard.com/event/2-5-unavail-10/
END:VEVENT
BEGIN:VEVENT
DTSTART;TZID=America/New_York:20220112T140000
DTEND;TZID=America/New_York:20220112T170000
DTSTAMP:20260423T171413
CREATED:20211018T143834Z
LAST-MODIFIED:20211018T143834Z
UID:3644-1641996000-1642006800@johnsherrard.com
SUMMARY:2 - 5 unavail
DESCRIPTION:
URL:https://johnsherrard.com/event/2-5-unavail-9/
END:VEVENT
BEGIN:VEVENT
DTSTART;TZID=America/New_York:20220111T130000
DTEND;TZID=America/New_York:20220111T170000
DTSTAMP:20260423T171413
CREATED:20211130T153443Z
LAST-MODIFIED:20211130T153443Z
UID:3873-1641906000-1641920400@johnsherrard.com
SUMMARY:1 - 5 unavailable
DESCRIPTION:
URL:https://johnsherrard.com/event/1-5-unavailable-8/
END:VEVENT
BEGIN:VEVENT
DTSTART;TZID=America/New_York:20220111T130000
DTEND;TZID=America/New_York:20220111T170000
DTSTAMP:20260423T171413
CREATED:20211123T221411Z
LAST-MODIFIED:20211123T221411Z
UID:3872-1641906000-1641920400@johnsherrard.com
SUMMARY:Chet Weinbaum
DESCRIPTION:Fisher v. Dramble\nPartition Action
URL:https://johnsherrard.com/event/chet-weinbaum-4/
END:VEVENT
BEGIN:VEVENT
DTSTART;TZID=America/New_York:20220110T093000
DTEND;TZID=America/New_York:20220110T170000
DTSTAMP:20260423T171413
CREATED:20211221T135028Z
LAST-MODIFIED:20211221T135028Z
UID:3884-1641807000-1641834000@johnsherrard.com
SUMMARY:9:30 - 5 mediation
DESCRIPTION:
URL:https://johnsherrard.com/event/930-5/
END:VEVENT
BEGIN:VEVENT
DTSTART;TZID=America/New_York:20220107T100000
DTEND;TZID=America/New_York:20220107T170000
DTSTAMP:20260423T171413
CREATED:20211220T180603Z
LAST-MODIFIED:20211220T180603Z
UID:3882-1641549600-1641574800@johnsherrard.com
SUMMARY:10 - 5 unavailable
DESCRIPTION:
URL:https://johnsherrard.com/event/10-5-unavailable-5/
END:VEVENT
BEGIN:VEVENT
DTSTART;TZID=America/New_York:20220106T090000
DTEND;TZID=America/New_York:20220106T170000
DTSTAMP:20260423T171413
CREATED:20211116T153500Z
LAST-MODIFIED:20211116T153500Z
UID:3864-1641459600-1641488400@johnsherrard.com
SUMMARY:9 - 1 Mediation
DESCRIPTION:
URL:https://johnsherrard.com/event/9-1-mediation-3/
END:VEVENT
BEGIN:VEVENT
DTSTART;TZID=America/New_York:20220104T090000
DTEND;TZID=America/New_York:20220104T170000
DTSTAMP:20260423T171413
CREATED:20211202T185140Z
LAST-MODIFIED:20211202T185140Z
UID:3747-1641286800-1641315600@johnsherrard.com
SUMMARY:9 - 5 mediation
DESCRIPTION:
URL:https://johnsherrard.com/event/9-5-mediation-19/
END:VEVENT
END:VCALENDAR