BEGIN:VCALENDAR
VERSION:2.0
PRODID:-//Sherrard Law Group - ECPv6.15.20//NONSGML v1.0//EN
CALSCALE:GREGORIAN
METHOD:PUBLISH
X-WR-CALNAME:Sherrard Law Group
X-ORIGINAL-URL:https://johnsherrard.com
X-WR-CALDESC:Events for Sherrard Law Group
REFRESH-INTERVAL;VALUE=DURATION:PT1H
X-Robots-Tag:noindex
X-PUBLISHED-TTL:PT1H
BEGIN:VTIMEZONE
TZID:America/New_York
BEGIN:DAYLIGHT
TZOFFSETFROM:-0500
TZOFFSETTO:-0400
TZNAME:EDT
DTSTART:20210314T070000
END:DAYLIGHT
BEGIN:STANDARD
TZOFFSETFROM:-0400
TZOFFSETTO:-0500
TZNAME:EST
DTSTART:20211107T060000
END:STANDARD
BEGIN:DAYLIGHT
TZOFFSETFROM:-0500
TZOFFSETTO:-0400
TZNAME:EDT
DTSTART:20220313T070000
END:DAYLIGHT
BEGIN:STANDARD
TZOFFSETFROM:-0400
TZOFFSETTO:-0500
TZNAME:EST
DTSTART:20221106T060000
END:STANDARD
BEGIN:DAYLIGHT
TZOFFSETFROM:-0500
TZOFFSETTO:-0400
TZNAME:EDT
DTSTART:20230312T070000
END:DAYLIGHT
BEGIN:STANDARD
TZOFFSETFROM:-0400
TZOFFSETTO:-0500
TZNAME:EST
DTSTART:20231105T060000
END:STANDARD
END:VTIMEZONE
BEGIN:VEVENT
DTSTART;TZID=America/New_York:20220330T090000
DTEND;TZID=America/New_York:20220330T130000
DTSTAMP:20260423T135230
CREATED:20220131T194039Z
LAST-MODIFIED:20220131T194039Z
UID:3912-1648630800-1648645200@johnsherrard.com
SUMMARY:Melissa Wheeler
DESCRIPTION:Jane Doe v. Stuart School of Music\, LLC and Daniel Sharp- Case No. 2019-CA-001364
URL:https://johnsherrard.com/event/melissa-wheeler-2/
END:VEVENT
BEGIN:VEVENT
DTSTART;TZID=America/New_York:20220329T093000
DTEND;TZID=America/New_York:20220329T170000
DTSTAMP:20260423T135230
CREATED:20220217T204005Z
LAST-MODIFIED:20220217T204005Z
UID:3930-1648546200-1648573200@johnsherrard.com
SUMMARY:9:30 - 5 unavail
DESCRIPTION:
URL:https://johnsherrard.com/event/930-5-unavail-2/
END:VEVENT
BEGIN:VEVENT
DTSTART;TZID=America/New_York:20220329T090000
DTEND;TZID=America/New_York:20220329T130000
DTSTAMP:20260423T135230
CREATED:20220329T181351Z
LAST-MODIFIED:20220329T181351Z
UID:3977-1648544400-1648558800@johnsherrard.com
SUMMARY:unavail
DESCRIPTION:
URL:https://johnsherrard.com/event/unavail-70/
END:VEVENT
BEGIN:VEVENT
DTSTART;TZID=America/New_York:20220328T080000
DTEND;TZID=America/New_York:20220328T170000
DTSTAMP:20260423T135230
CREATED:20220328T152044Z
LAST-MODIFIED:20220328T152044Z
UID:3969-1648454400-1648486800@johnsherrard.com
SUMMARY:Unavail
DESCRIPTION:
URL:https://johnsherrard.com/event/unavail-66/
END:VEVENT
BEGIN:VEVENT
DTSTART;TZID=America/New_York:20220328T080000
DTEND;TZID=America/New_York:20220328T170000
DTSTAMP:20260423T135230
CREATED:20220304T160531Z
LAST-MODIFIED:20220304T160531Z
UID:3940-1648454400-1648486800@johnsherrard.com
SUMMARY:unavail
DESCRIPTION:
URL:https://johnsherrard.com/event/unavail-51/
END:VEVENT
BEGIN:VEVENT
DTSTART;TZID=America/New_York:20220325T093000
DTEND;TZID=America/New_York:20220325T170000
DTSTAMP:20260423T135230
CREATED:20220208T140144Z
LAST-MODIFIED:20220208T140144Z
UID:3916-1648200600-1648227600@johnsherrard.com
SUMMARY:Mediation by JES
DESCRIPTION:
URL:https://johnsherrard.com/event/mediation-by-jes-3/
END:VEVENT
BEGIN:VEVENT
DTSTART;TZID=America/New_York:20220325T080000
DTEND;TZID=America/New_York:20220325T170000
DTSTAMP:20260423T135230
CREATED:20220304T160510Z
LAST-MODIFIED:20220304T160510Z
UID:3939-1648195200-1648227600@johnsherrard.com
SUMMARY:unavail
DESCRIPTION:
URL:https://johnsherrard.com/event/unavail-50/
END:VEVENT
BEGIN:VEVENT
DTSTART;TZID=America/New_York:20220324T080000
DTEND;TZID=America/New_York:20220324T170000
DTSTAMP:20260423T135230
CREATED:20220304T160453Z
LAST-MODIFIED:20220304T160453Z
UID:3938-1648108800-1648141200@johnsherrard.com
SUMMARY:unavail
DESCRIPTION:
URL:https://johnsherrard.com/event/unavail-49/
END:VEVENT
BEGIN:VEVENT
DTSTART;TZID=America/New_York:20220323T080000
DTEND;TZID=America/New_York:20220323T170000
DTSTAMP:20260423T135230
CREATED:20220211T153207Z
LAST-MODIFIED:20220211T153207Z
UID:3919-1648022400-1648054800@johnsherrard.com
SUMMARY:unavail
DESCRIPTION:
URL:https://johnsherrard.com/event/unavail-41/
END:VEVENT
BEGIN:VEVENT
DTSTART;TZID=America/New_York:20220322T130000
DTEND;TZID=America/New_York:20220322T170000
DTSTAMP:20260423T135230
CREATED:20220217T204901Z
LAST-MODIFIED:20220217T204901Z
UID:3931-1647954000-1647968400@johnsherrard.com
SUMMARY:1 - 5 unavail
DESCRIPTION:
URL:https://johnsherrard.com/event/1-5-unavail-11/
END:VEVENT
BEGIN:VEVENT
DTSTART;TZID=America/New_York:20220322T110000
DTEND;TZID=America/New_York:20220322T120000
DTSTAMP:20260423T135230
CREATED:20220308T190835Z
LAST-MODIFIED:20220308T190835Z
UID:3945-1647946800-1647950400@johnsherrard.com
SUMMARY:11 - 12 unavail
DESCRIPTION:
URL:https://johnsherrard.com/event/11-12-unavail-5/
END:VEVENT
BEGIN:VEVENT
DTSTART;TZID=America/New_York:20220322T080000
DTEND;TZID=America/New_York:20220322T170000
DTSTAMP:20260423T135230
CREATED:20220304T160433Z
LAST-MODIFIED:20220304T160433Z
UID:3937-1647936000-1647968400@johnsherrard.com
SUMMARY:unavail
DESCRIPTION:
URL:https://johnsherrard.com/event/unavail-48/
END:VEVENT
BEGIN:VEVENT
DTSTART;TZID=America/New_York:20220318T080000
DTEND;TZID=America/New_York:20220318T170000
DTSTAMP:20260423T135230
CREATED:20220125T211253Z
LAST-MODIFIED:20220125T211253Z
UID:3907-1647590400-1647622800@johnsherrard.com
SUMMARY:Unavailable
DESCRIPTION:
URL:https://johnsherrard.com/event/unavailable-56/
END:VEVENT
BEGIN:VEVENT
DTSTART;TZID=America/New_York:20220317T090000
DTEND;TZID=America/New_York:20220317T170000
DTSTAMP:20260423T135230
CREATED:20211022T143734Z
LAST-MODIFIED:20211022T143734Z
UID:3678-1647507600-1647536400@johnsherrard.com
SUMMARY:unavail
DESCRIPTION:
URL:https://johnsherrard.com/event/9-10-bod-5/
END:VEVENT
BEGIN:VEVENT
DTSTART;TZID=America/New_York:20220316T100000
DTEND;TZID=America/New_York:20220316T170000
DTSTAMP:20260423T135230
CREATED:20220304T160405Z
LAST-MODIFIED:20220304T160405Z
UID:3936-1647424800-1647450000@johnsherrard.com
SUMMARY:10 - 5 unavail
DESCRIPTION:
URL:https://johnsherrard.com/event/10-5-unavail-4/
END:VEVENT
BEGIN:VEVENT
DTSTART;TZID=America/New_York:20220315T100000
DTEND;TZID=America/New_York:20220315T170000
DTSTAMP:20260423T135230
CREATED:20220127T144146Z
LAST-MODIFIED:20220127T144146Z
UID:3911-1647338400-1647363600@johnsherrard.com
SUMMARY:Mediation 10 - 5
DESCRIPTION:
URL:https://johnsherrard.com/event/mediation-10-5/
END:VEVENT
BEGIN:VEVENT
DTSTART;TZID=America/New_York:20220315T080000
DTEND;TZID=America/New_York:20220315T170000
DTSTAMP:20260423T135230
CREATED:20220315T191257Z
LAST-MODIFIED:20220315T191257Z
UID:3950-1647331200-1647363600@johnsherrard.com
SUMMARY:Unavail.
DESCRIPTION:
URL:https://johnsherrard.com/event/unavail-57/
END:VEVENT
BEGIN:VEVENT
DTSTART;TZID=America/New_York:20220314T080000
DTEND;TZID=America/New_York:20220314T170000
DTSTAMP:20260423T135230
CREATED:20211215T183046Z
LAST-MODIFIED:20211215T183046Z
UID:3880-1647244800-1647277200@johnsherrard.com
SUMMARY:9 - 5 unavailable
DESCRIPTION:
URL:https://johnsherrard.com/event/9-5-hold-5/
END:VEVENT
BEGIN:VEVENT
DTSTART;TZID=America/New_York:20220311T110000
DTEND;TZID=America/New_York:20220311T110000
DTSTAMP:20260423T135230
CREATED:20220215T154705Z
LAST-MODIFIED:20220215T154705Z
UID:3922-1646996400-1646996400@johnsherrard.com
SUMMARY:Kate Hill - service@hill-lawfl.com
DESCRIPTION:Saint Lucie County\nThomas Elliott v. Georgette Angelos\n2021DR00254 \nPaternity action \nKate Hill represents the Mother and\nNatalie Garland represents the Father
URL:https://johnsherrard.com/event/kate-hill-servicehill-lawfl-com/
END:VEVENT
BEGIN:VEVENT
DTSTART;TZID=America/New_York:20220311T080000
DTEND;TZID=America/New_York:20220311T170000
DTSTAMP:20260423T135230
CREATED:20220215T155318Z
LAST-MODIFIED:20220215T155318Z
UID:3923-1646985600-1647018000@johnsherrard.com
SUMMARY:9 - 5 unavail.
DESCRIPTION:
URL:https://johnsherrard.com/event/9-5-unavail-34/
END:VEVENT
BEGIN:VEVENT
DTSTART;TZID=America/New_York:20220310T100000
DTEND;TZID=America/New_York:20220310T170000
DTSTAMP:20260423T135230
CREATED:20220126T155355Z
LAST-MODIFIED:20220126T155355Z
UID:3909-1646906400-1646931600@johnsherrard.com
SUMMARY:10 - 5 mediation
DESCRIPTION:
URL:https://johnsherrard.com/event/10-5-mediation-25/
END:VEVENT
BEGIN:VEVENT
DTSTART;TZID=America/New_York:20220309T080000
DTEND;TZID=America/New_York:20220309T170000
DTSTAMP:20260423T135230
CREATED:20211228T153218Z
LAST-MODIFIED:20211228T153218Z
UID:3888-1646812800-1646845200@johnsherrard.com
SUMMARY:unavail
DESCRIPTION:
URL:https://johnsherrard.com/event/2-5-unavail-12/
END:VEVENT
BEGIN:VEVENT
DTSTART;TZID=America/New_York:20220308T080000
DTEND;TZID=America/New_York:20220308T170000
DTSTAMP:20260423T135230
CREATED:20220216T140306Z
LAST-MODIFIED:20220216T140306Z
UID:3928-1646726400-1646758800@johnsherrard.com
SUMMARY:Unavail
DESCRIPTION:
URL:https://johnsherrard.com/event/unavail-47/
END:VEVENT
BEGIN:VEVENT
DTSTART;TZID=America/New_York:20220307T080000
DTEND;TZID=America/New_York:20220307T170000
DTSTAMP:20260423T135230
CREATED:20220216T140200Z
LAST-MODIFIED:20220216T140200Z
UID:3927-1646640000-1646672400@johnsherrard.com
SUMMARY:unavail
DESCRIPTION:
URL:https://johnsherrard.com/event/unavail-46/
END:VEVENT
BEGIN:VEVENT
DTSTART;TZID=America/New_York:20220304T093000
DTEND;TZID=America/New_York:20220304T170000
DTSTAMP:20260423T135230
CREATED:20220201T202112Z
LAST-MODIFIED:20220201T202112Z
UID:3913-1646386200-1646413200@johnsherrard.com
SUMMARY:9:30 - 5 Mediation
DESCRIPTION:
URL:https://johnsherrard.com/event/930-5-mediation-6/
END:VEVENT
BEGIN:VEVENT
DTSTART;TZID=America/New_York:20220303T100000
DTEND;TZID=America/New_York:20220303T170000
DTSTAMP:20260423T135230
CREATED:20220119T151955Z
LAST-MODIFIED:20220119T151955Z
UID:3902-1646301600-1646326800@johnsherrard.com
SUMMARY:10 - 5 mediation
DESCRIPTION:
URL:https://johnsherrard.com/event/10-5-mediation-23/
END:VEVENT
BEGIN:VEVENT
DTSTART;TZID=America/New_York:20220302T080000
DTEND;TZID=America/New_York:20220302T170000
DTSTAMP:20260423T135230
CREATED:20220216T140139Z
LAST-MODIFIED:20220216T140139Z
UID:3926-1646208000-1646240400@johnsherrard.com
SUMMARY:unavail
DESCRIPTION:
URL:https://johnsherrard.com/event/unavail-45/
END:VEVENT
BEGIN:VEVENT
DTSTART;TZID=America/New_York:20220301T080000
DTEND;TZID=America/New_York:20220301T170000
DTSTAMP:20260423T135230
CREATED:20220211T153150Z
LAST-MODIFIED:20220211T153150Z
UID:3918-1646121600-1646154000@johnsherrard.com
SUMMARY:unavail
DESCRIPTION:
URL:https://johnsherrard.com/event/unavail-40/
END:VEVENT
BEGIN:VEVENT
DTSTART;TZID=America/New_York:20220228T100000
DTEND;TZID=America/New_York:20220228T170000
DTSTAMP:20260423T135230
CREATED:20220125T160416Z
LAST-MODIFIED:20220125T160416Z
UID:3903-1646042400-1646067600@johnsherrard.com
SUMMARY:10 - 5 mediation
DESCRIPTION:
URL:https://johnsherrard.com/event/10-5-mediation-24/
END:VEVENT
BEGIN:VEVENT
DTSTART;TZID=America/New_York:20220228T080000
DTEND;TZID=America/New_York:20220228T170000
DTSTAMP:20260423T135230
CREATED:20220125T211236Z
LAST-MODIFIED:20220125T211236Z
UID:3906-1646035200-1646067600@johnsherrard.com
SUMMARY:Unavailable
DESCRIPTION:
URL:https://johnsherrard.com/event/unavailable-51/
END:VEVENT
END:VCALENDAR