BEGIN:VCALENDAR
VERSION:2.0
PRODID:-//Sherrard Law Group - ECPv6.15.20//NONSGML v1.0//EN
CALSCALE:GREGORIAN
METHOD:PUBLISH
X-WR-CALNAME:Sherrard Law Group
X-ORIGINAL-URL:https://johnsherrard.com
X-WR-CALDESC:Events for Sherrard Law Group
REFRESH-INTERVAL;VALUE=DURATION:PT1H
X-Robots-Tag:noindex
X-PUBLISHED-TTL:PT1H
BEGIN:VTIMEZONE
TZID:America/New_York
BEGIN:DAYLIGHT
TZOFFSETFROM:-0500
TZOFFSETTO:-0400
TZNAME:EDT
DTSTART:20210314T070000
END:DAYLIGHT
BEGIN:STANDARD
TZOFFSETFROM:-0400
TZOFFSETTO:-0500
TZNAME:EST
DTSTART:20211107T060000
END:STANDARD
BEGIN:DAYLIGHT
TZOFFSETFROM:-0500
TZOFFSETTO:-0400
TZNAME:EDT
DTSTART:20220313T070000
END:DAYLIGHT
BEGIN:STANDARD
TZOFFSETFROM:-0400
TZOFFSETTO:-0500
TZNAME:EST
DTSTART:20221106T060000
END:STANDARD
BEGIN:DAYLIGHT
TZOFFSETFROM:-0500
TZOFFSETTO:-0400
TZNAME:EDT
DTSTART:20230312T070000
END:DAYLIGHT
BEGIN:STANDARD
TZOFFSETFROM:-0400
TZOFFSETTO:-0500
TZNAME:EST
DTSTART:20231105T060000
END:STANDARD
END:VTIMEZONE
BEGIN:VEVENT
DTSTART;TZID=America/New_York:20220706T100000
DTEND;TZID=America/New_York:20220706T100000
DTSTAMP:20260421T043900
CREATED:20220425T172912Z
LAST-MODIFIED:20220425T172912Z
UID:4072-1657101600-1657101600@johnsherrard.com
SUMMARY:Erika Powers
DESCRIPTION:Conduct Mediation 1/2 day
URL:https://johnsherrard.com/event/erika-powers/
END:VEVENT
BEGIN:VEVENT
DTSTART;TZID=America/New_York:20220704T080000
DTEND;TZID=America/New_York:20220704T170000
DTSTAMP:20260421T043900
CREATED:20210921T191241Z
LAST-MODIFIED:20210921T191241Z
UID:3570-1656921600-1656954000@johnsherrard.com
SUMMARY:Courthouse/Office Closed
DESCRIPTION:
URL:https://johnsherrard.com/event/courthouse-office-closed-25/
END:VEVENT
BEGIN:VEVENT
DTSTART;TZID=America/New_York:20220701T080000
DTEND;TZID=America/New_York:20220701T170000
DTSTAMP:20260421T043900
CREATED:20220408T131048Z
LAST-MODIFIED:20220408T131048Z
UID:4006-1656662400-1656694800@johnsherrard.com
SUMMARY:Unavailable
DESCRIPTION:
URL:https://johnsherrard.com/event/unavailable-66/
END:VEVENT
BEGIN:VEVENT
DTSTART;TZID=America/New_York:20220629T080000
DTEND;TZID=America/New_York:20220629T170000
DTSTAMP:20260421T043900
CREATED:20211228T153501Z
LAST-MODIFIED:20211228T153501Z
UID:3892-1656489600-1656522000@johnsherrard.com
SUMMARY:unavail
DESCRIPTION:
URL:https://johnsherrard.com/event/unavail-30/
END:VEVENT
BEGIN:VEVENT
DTSTART;TZID=America/New_York:20220622T080000
DTEND;TZID=America/New_York:20220622T170000
DTSTAMP:20260421T043900
CREATED:20220315T191338Z
LAST-MODIFIED:20220315T191338Z
UID:3952-1655884800-1655917200@johnsherrard.com
SUMMARY:Unavail.
DESCRIPTION:
URL:https://johnsherrard.com/event/unavail-59/
END:VEVENT
BEGIN:VEVENT
DTSTART;TZID=America/New_York:20220617T080000
DTEND;TZID=America/New_York:20220617T170000
DTSTAMP:20260421T043900
CREATED:20220408T131031Z
LAST-MODIFIED:20220408T131031Z
UID:4004-1655452800-1655485200@johnsherrard.com
SUMMARY:Unavailable
DESCRIPTION:
URL:https://johnsherrard.com/event/unavailable-65/
END:VEVENT
BEGIN:VEVENT
DTSTART;TZID=America/New_York:20220617T080000
DTEND;TZID=America/New_York:20220617T170000
DTSTAMP:20260421T043900
CREATED:20220408T131013Z
LAST-MODIFIED:20220408T131013Z
UID:4002-1655452800-1655485200@johnsherrard.com
SUMMARY:Unavailable
DESCRIPTION:
URL:https://johnsherrard.com/event/unavailable-64/
END:VEVENT
BEGIN:VEVENT
DTSTART;TZID=America/New_York:20220616T090000
DTEND;TZID=America/New_York:20220616T100000
DTSTAMP:20260421T043900
CREATED:20211022T144001Z
LAST-MODIFIED:20211022T144001Z
UID:3687-1655370000-1655373600@johnsherrard.com
SUMMARY:9 - 10 BOD
DESCRIPTION:
URL:https://johnsherrard.com/event/9-10-bod-9/
END:VEVENT
BEGIN:VEVENT
DTSTART;TZID=America/New_York:20220610T080000
DTEND;TZID=America/New_York:20220610T170000
DTSTAMP:20260421T043900
CREATED:20220408T130954Z
LAST-MODIFIED:20220408T130954Z
UID:4000-1654848000-1654880400@johnsherrard.com
SUMMARY:Unavailable
DESCRIPTION:
URL:https://johnsherrard.com/event/unavailable-63/
END:VEVENT
BEGIN:VEVENT
DTSTART;TZID=America/New_York:20220601T080000
DTEND;TZID=America/New_York:20220623T170000
DTSTAMP:20260421T043900
CREATED:20220211T153432Z
LAST-MODIFIED:20220211T153432Z
UID:3921-1654070400-1656003600@johnsherrard.com
SUMMARY:Unavailable
DESCRIPTION:
URL:https://johnsherrard.com/event/unavailable-58/
END:VEVENT
BEGIN:VEVENT
DTSTART;TZID=America/New_York:20220531T080000
DTEND;TZID=America/New_York:20220620T170000
DTSTAMP:20260421T043900
CREATED:20211020T181053Z
LAST-MODIFIED:20211020T181053Z
UID:3662-1653984000-1655744400@johnsherrard.com
SUMMARY:Unavailable
DESCRIPTION:
URL:https://johnsherrard.com/event/unavailable-47/
END:VEVENT
BEGIN:VEVENT
DTSTART;TZID=America/New_York:20220530T080000
DTEND;TZID=America/New_York:20220530T170000
DTSTAMP:20260421T043900
CREATED:20210921T191220Z
LAST-MODIFIED:20210921T191220Z
UID:3568-1653897600-1653930000@johnsherrard.com
SUMMARY:Courthouse/Office Closed
DESCRIPTION:
URL:https://johnsherrard.com/event/courthouse-office-closed-24/
END:VEVENT
BEGIN:VEVENT
DTSTART;TZID=America/New_York:20220527T080000
DTEND;TZID=America/New_York:20220527T170000
DTSTAMP:20260421T043900
CREATED:20220328T152130Z
LAST-MODIFIED:20220328T152130Z
UID:3973-1653638400-1653670800@johnsherrard.com
SUMMARY:Unavail
DESCRIPTION:
URL:https://johnsherrard.com/event/unavail-68/
END:VEVENT
BEGIN:VEVENT
DTSTART;TZID=America/New_York:20220527T080000
DTEND;TZID=America/New_York:20220527T170000
DTSTAMP:20260421T043900
CREATED:20211228T153434Z
LAST-MODIFIED:20211228T153434Z
UID:3891-1653638400-1653670800@johnsherrard.com
SUMMARY:unavail
DESCRIPTION:
URL:https://johnsherrard.com/event/unavail-29/
END:VEVENT
BEGIN:VEVENT
DTSTART;TZID=America/New_York:20220526T080000
DTEND;TZID=America/New_York:20220526T170000
DTSTAMP:20260421T043900
CREATED:20220328T152109Z
LAST-MODIFIED:20220328T152109Z
UID:3971-1653552000-1653584400@johnsherrard.com
SUMMARY:Unavail
DESCRIPTION:
URL:https://johnsherrard.com/event/unavail-67/
END:VEVENT
BEGIN:VEVENT
DTSTART;TZID=America/New_York:20220526T080000
DTEND;TZID=America/New_York:20220526T170000
DTSTAMP:20260421T043900
CREATED:20220315T191317Z
LAST-MODIFIED:20220315T191317Z
UID:3951-1653552000-1653584400@johnsherrard.com
SUMMARY:Unavail.
DESCRIPTION:
URL:https://johnsherrard.com/event/unavail-58/
END:VEVENT
BEGIN:VEVENT
DTSTART;TZID=America/New_York:20220526T080000
DTEND;TZID=America/New_York:20220526T170000
DTSTAMP:20260421T043900
CREATED:20220304T160655Z
LAST-MODIFIED:20220304T160655Z
UID:3944-1653552000-1653584400@johnsherrard.com
SUMMARY:unavail
DESCRIPTION:
URL:https://johnsherrard.com/event/unavail-55/
END:VEVENT
BEGIN:VEVENT
DTSTART;TZID=America/New_York:20220525T090000
DTEND;TZID=America/New_York:20220525T120000
DTSTAMP:20260421T043900
CREATED:20220331T141436Z
LAST-MODIFIED:20220331T141436Z
UID:3983-1653469200-1653480000@johnsherrard.com
SUMMARY:9 - 12 mediation
DESCRIPTION:Mediation for Gary Wiggam (Peter Gianino) and Twyla Jones (Richard Barlow).  original\, 3 minor kids. \nI will do the order.  If you need any other info\, my number is 941 467 0610
URL:https://johnsherrard.com/event/ann-becker/
END:VEVENT
BEGIN:VEVENT
DTSTART;TZID=America/New_York:20220524T080000
DTEND;TZID=America/New_York:20220524T170000
DTSTAMP:20260421T043900
CREATED:20220419T174334Z
LAST-MODIFIED:20220419T174334Z
UID:4069-1653379200-1653411600@johnsherrard.com
SUMMARY:9 - 5 depositions
DESCRIPTION:
URL:https://johnsherrard.com/event/9-5-depositions-11/
END:VEVENT
BEGIN:VEVENT
DTSTART;TZID=America/New_York:20220523T100000
DTEND;TZID=America/New_York:20220523T170000
DTSTAMP:20260421T043900
CREATED:20220407T184817Z
LAST-MODIFIED:20220407T184817Z
UID:3989-1653300000-1653325200@johnsherrard.com
SUMMARY:Mediation 10 - 5
DESCRIPTION:
URL:https://johnsherrard.com/event/mediation-10-5-2/
END:VEVENT
BEGIN:VEVENT
DTSTART;TZID=America/New_York:20220520T100000
DTEND;TZID=America/New_York:20220520T170000
DTSTAMP:20260421T043900
CREATED:20220222T185437Z
LAST-MODIFIED:20220222T185437Z
UID:3932-1653040800-1653066000@johnsherrard.com
SUMMARY:10 - 5 mediation
DESCRIPTION:
URL:https://johnsherrard.com/event/10-5-mediation-27/
END:VEVENT
BEGIN:VEVENT
DTSTART;TZID=America/New_York:20220520T080000
DTEND;TZID=America/New_York:20220520T170000
DTSTAMP:20260421T043900
CREATED:20220408T130849Z
LAST-MODIFIED:20220408T130849Z
UID:3998-1653033600-1653066000@johnsherrard.com
SUMMARY:Unavailable
DESCRIPTION:
URL:https://johnsherrard.com/event/unavailable-62/
END:VEVENT
BEGIN:VEVENT
DTSTART;TZID=America/New_York:20220519T090000
DTEND;TZID=America/New_York:20220519T100000
DTSTAMP:20260421T043900
CREATED:20211022T143835Z
LAST-MODIFIED:20211022T143835Z
UID:3682-1652950800-1652954400@johnsherrard.com
SUMMARY:9 - 10 BOD
DESCRIPTION:
URL:https://johnsherrard.com/event/9-10-bod-7/
END:VEVENT
BEGIN:VEVENT
DTSTART;TZID=America/New_York:20220518T080000
DTEND;TZID=America/New_York:20220518T170000
DTSTAMP:20260421T043900
CREATED:20220411T131157Z
LAST-MODIFIED:20220411T131157Z
UID:4018-1652860800-1652893200@johnsherrard.com
SUMMARY:10 - 5 mediation
DESCRIPTION:
URL:https://johnsherrard.com/event/10-5-mediation-30/
END:VEVENT
BEGIN:VEVENT
DTSTART;TZID=America/New_York:20220517T080000
DTEND;TZID=America/New_York:20220517T170000
DTSTAMP:20260421T043900
CREATED:20220401T203125Z
LAST-MODIFIED:20220401T203125Z
UID:3986-1652774400-1652806800@johnsherrard.com
SUMMARY:unavail
DESCRIPTION:
URL:https://johnsherrard.com/event/unavail-73/
END:VEVENT
BEGIN:VEVENT
DTSTART;TZID=America/New_York:20220517T080000
DTEND;TZID=America/New_York:20220517T170000
DTSTAMP:20260421T043900
CREATED:20220310T191644Z
LAST-MODIFIED:20220310T191644Z
UID:3946-1652774400-1652806800@johnsherrard.com
SUMMARY:10 - 5 unavailable
DESCRIPTION:
URL:https://johnsherrard.com/event/10-5-unavailable-6/
END:VEVENT
BEGIN:VEVENT
DTSTART;TZID=America/New_York:20220516T100000
DTEND;TZID=America/New_York:20220516T170000
DTSTAMP:20260421T043900
CREATED:20220315T144323Z
LAST-MODIFIED:20220315T144323Z
UID:3949-1652695200-1652720400@johnsherrard.com
SUMMARY:10 - 5 Mediation
DESCRIPTION:
URL:https://johnsherrard.com/event/10-5-mediation-29/
END:VEVENT
BEGIN:VEVENT
DTSTART;TZID=America/New_York:20220516T080000
DTEND;TZID=America/New_York:20220516T170000
DTSTAMP:20260421T043900
CREATED:20220328T152026Z
LAST-MODIFIED:20220328T152026Z
UID:3967-1652688000-1652720400@johnsherrard.com
SUMMARY:Unavail
DESCRIPTION:
URL:https://johnsherrard.com/event/unavail-65/
END:VEVENT
BEGIN:VEVENT
DTSTART;TZID=America/New_York:20220513T090000
DTEND;TZID=America/New_York:20220513T170000
DTSTAMP:20260421T043900
CREATED:20220415T194447Z
LAST-MODIFIED:20220415T194447Z
UID:4020-1652432400-1652461200@johnsherrard.com
SUMMARY:Susan Chesnutt
DESCRIPTION:Need Mediation full day
URL:https://johnsherrard.com/event/susan-chesnutt/
END:VEVENT
BEGIN:VEVENT
DTSTART;TZID=America/New_York:20220510T080000
DTEND;TZID=America/New_York:20220510T170000
DTSTAMP:20260421T043900
CREATED:20220328T152004Z
LAST-MODIFIED:20220328T152004Z
UID:3965-1652169600-1652202000@johnsherrard.com
SUMMARY:Unavail
DESCRIPTION:
URL:https://johnsherrard.com/event/unavail-64/
END:VEVENT
END:VCALENDAR