BEGIN:VCALENDAR
VERSION:2.0
PRODID:-//Sherrard Law Group - ECPv6.15.20//NONSGML v1.0//EN
CALSCALE:GREGORIAN
METHOD:PUBLISH
X-WR-CALNAME:Sherrard Law Group
X-ORIGINAL-URL:https://johnsherrard.com
X-WR-CALDESC:Events for Sherrard Law Group
REFRESH-INTERVAL;VALUE=DURATION:PT1H
X-Robots-Tag:noindex
X-PUBLISHED-TTL:PT1H
BEGIN:VTIMEZONE
TZID:UTC
BEGIN:STANDARD
TZOFFSETFROM:+0000
TZOFFSETTO:+0000
TZNAME:UTC
DTSTART:20220101T000000
END:STANDARD
END:VTIMEZONE
BEGIN:VEVENT
DTSTART;TZID=UTC:20230308T080000
DTEND;TZID=UTC:20230308T170000
DTSTAMP:20260420T112434
CREATED:20230209T015201Z
LAST-MODIFIED:20230209T015201Z
UID:6056-1678262400-1678294800@johnsherrard.com
SUMMARY:Unavailable
DESCRIPTION:
URL:https://johnsherrard.com/event/unavailable-162/
END:VEVENT
BEGIN:VEVENT
DTSTART;TZID=UTC:20230306T080000
DTEND;TZID=UTC:20230306T170000
DTSTAMP:20260420T112434
CREATED:20230209T015144Z
LAST-MODIFIED:20230209T015144Z
UID:6054-1678089600-1678122000@johnsherrard.com
SUMMARY:Unavailable
DESCRIPTION:
URL:https://johnsherrard.com/event/unavailable-161/
END:VEVENT
BEGIN:VEVENT
DTSTART;TZID=UTC:20230303T080000
DTEND;TZID=UTC:20230303T170000
DTSTAMP:20260420T112434
CREATED:20230209T015127Z
LAST-MODIFIED:20230209T015127Z
UID:6052-1677830400-1677862800@johnsherrard.com
SUMMARY:Unavailable
DESCRIPTION:
URL:https://johnsherrard.com/event/unavailable-160/
END:VEVENT
BEGIN:VEVENT
DTSTART;TZID=UTC:20230302T080000
DTEND;TZID=UTC:20230302T170000
DTSTAMP:20260420T112434
CREATED:20230209T015108Z
LAST-MODIFIED:20230209T015108Z
UID:6050-1677744000-1677776400@johnsherrard.com
SUMMARY:Unavailable
DESCRIPTION:
URL:https://johnsherrard.com/event/unavailable-159/
END:VEVENT
BEGIN:VEVENT
DTSTART;TZID=UTC:20230301T080000
DTEND;TZID=UTC:20230301T170000
DTSTAMP:20260420T112434
CREATED:20221229T214318Z
LAST-MODIFIED:20221229T214318Z
UID:5972-1677657600-1677690000@johnsherrard.com
SUMMARY:Unavailable
DESCRIPTION:
URL:https://johnsherrard.com/event/unavailable-147/
END:VEVENT
BEGIN:VEVENT
DTSTART;TZID=UTC:20230228T080000
DTEND;TZID=UTC:20230228T170000
DTSTAMP:20260420T112434
CREATED:20230209T015014Z
LAST-MODIFIED:20230209T015014Z
UID:6046-1677571200-1677603600@johnsherrard.com
SUMMARY:Unavail
DESCRIPTION:
URL:https://johnsherrard.com/event/unavail-84/
END:VEVENT
BEGIN:VEVENT
DTSTART;TZID=UTC:20230224T080000
DTEND;TZID=UTC:20230224T170000
DTSTAMP:20260420T112434
CREATED:20221115T002451Z
LAST-MODIFIED:20221115T002451Z
UID:5812-1677225600-1677258000@johnsherrard.com
SUMMARY:Unavailable
DESCRIPTION:
URL:https://johnsherrard.com/event/unavailable-36/
END:VEVENT
BEGIN:VEVENT
DTSTART;TZID=UTC:20230223T080000
DTEND;TZID=UTC:20230223T170000
DTSTAMP:20260420T112434
CREATED:20230120T021202Z
LAST-MODIFIED:20230120T021202Z
UID:6003-1677139200-1677171600@johnsherrard.com
SUMMARY:Unavailable
DESCRIPTION:
URL:https://johnsherrard.com/event/unavailable-158/
END:VEVENT
BEGIN:VEVENT
DTSTART;TZID=UTC:20230222T080000
DTEND;TZID=UTC:20230222T170000
DTSTAMP:20260420T112434
CREATED:20230209T015040Z
LAST-MODIFIED:20230209T015040Z
UID:6048-1677052800-1677085200@johnsherrard.com
SUMMARY:Unavailable
DESCRIPTION:
URL:https://johnsherrard.com/event/unavailable-127/
END:VEVENT
BEGIN:VEVENT
DTSTART;TZID=UTC:20230222T080000
DTEND;TZID=UTC:20230222T170000
DTSTAMP:20260420T112434
CREATED:20221228T200419Z
LAST-MODIFIED:20221228T200419Z
UID:5964-1677052800-1677085200@johnsherrard.com
SUMMARY:Mediation
DESCRIPTION:
URL:https://johnsherrard.com/event/mediation/
END:VEVENT
BEGIN:VEVENT
DTSTART;TZID=UTC:20230221T100000
DTEND;TZID=UTC:20230221T140000
DTSTAMP:20260420T112434
CREATED:20230125T023055Z
LAST-MODIFIED:20230125T023055Z
UID:6033-1676973600-1676988000@johnsherrard.com
SUMMARY:10- 2 - unavailable
DESCRIPTION:
URL:https://johnsherrard.com/event/10-2-unavailable/
END:VEVENT
BEGIN:VEVENT
DTSTART;TZID=UTC:20230220T090000
DTEND;TZID=UTC:20230220T170000
DTSTAMP:20260420T112434
CREATED:20230110T184532Z
LAST-MODIFIED:20230110T184532Z
UID:5989-1676883600-1676912400@johnsherrard.com
SUMMARY:Unavailable
DESCRIPTION:
URL:https://johnsherrard.com/event/unavailable-154/
END:VEVENT
BEGIN:VEVENT
DTSTART;TZID=UTC:20230217T080000
DTEND;TZID=UTC:20230217T170000
DTSTAMP:20260420T112434
CREATED:20221115T002434Z
LAST-MODIFIED:20221115T002434Z
UID:5810-1676620800-1676653200@johnsherrard.com
SUMMARY:Unavailable
DESCRIPTION:
URL:https://johnsherrard.com/event/unavailable-35/
END:VEVENT
BEGIN:VEVENT
DTSTART;TZID=UTC:20230216T080000
DTEND;TZID=UTC:20230216T103000
DTSTAMP:20260420T112434
CREATED:20221115T002421Z
LAST-MODIFIED:20221115T002421Z
UID:5808-1676534400-1676543400@johnsherrard.com
SUMMARY:Unavailable
DESCRIPTION:
URL:https://johnsherrard.com/event/unavailable-34/
END:VEVENT
BEGIN:VEVENT
DTSTART;TZID=UTC:20230215T080000
DTEND;TZID=UTC:20230215T170000
DTSTAMP:20260420T112434
CREATED:20230120T021143Z
LAST-MODIFIED:20230120T021143Z
UID:6001-1676448000-1676480400@johnsherrard.com
SUMMARY:Unavailable
DESCRIPTION:
URL:https://johnsherrard.com/event/unavailable-157/
END:VEVENT
BEGIN:VEVENT
DTSTART;TZID=UTC:20230214T080000
DTEND;TZID=UTC:20230214T170000
DTSTAMP:20260420T112434
CREATED:20230120T021126Z
LAST-MODIFIED:20230120T021126Z
UID:5999-1676361600-1676394000@johnsherrard.com
SUMMARY:Unavailable
DESCRIPTION:
URL:https://johnsherrard.com/event/unavailable-156/
END:VEVENT
BEGIN:VEVENT
DTSTART;TZID=UTC:20230213T080000
DTEND;TZID=UTC:20230213T170000
DTSTAMP:20260420T112434
CREATED:20221207T234245Z
LAST-MODIFIED:20221207T234245Z
UID:5942-1676275200-1676307600@johnsherrard.com
SUMMARY:unavailable
DESCRIPTION:
URL:https://johnsherrard.com/event/unavailable-138/
END:VEVENT
BEGIN:VEVENT
DTSTART;TZID=UTC:20230210T080000
DTEND;TZID=UTC:20230210T170000
DTSTAMP:20260420T112434
CREATED:20221229T214257Z
LAST-MODIFIED:20221229T214257Z
UID:5970-1676016000-1676048400@johnsherrard.com
SUMMARY:Unavailable
DESCRIPTION:
URL:https://johnsherrard.com/event/unavailable-146/
END:VEVENT
BEGIN:VEVENT
DTSTART;TZID=UTC:20230210T080000
DTEND;TZID=UTC:20230210T170000
DTSTAMP:20260420T112434
CREATED:20221115T002352Z
LAST-MODIFIED:20221115T002352Z
UID:5806-1676016000-1676048400@johnsherrard.com
SUMMARY:Unavailable
DESCRIPTION:
URL:https://johnsherrard.com/event/unavailable-33/
END:VEVENT
BEGIN:VEVENT
DTSTART;TZID=UTC:20230209T080000
DTEND;TZID=UTC:20230209T170000
DTSTAMP:20260420T112434
CREATED:20221207T234227Z
LAST-MODIFIED:20221207T234227Z
UID:5940-1675929600-1675962000@johnsherrard.com
SUMMARY:unavailable
DESCRIPTION:
URL:https://johnsherrard.com/event/unavailable-137/
END:VEVENT
BEGIN:VEVENT
DTSTART;TZID=UTC:20230208T080000
DTEND;TZID=UTC:20230208T170000
DTSTAMP:20260420T112434
CREATED:20221207T234210Z
LAST-MODIFIED:20221207T234210Z
UID:5938-1675843200-1675875600@johnsherrard.com
SUMMARY:unavailable
DESCRIPTION:
URL:https://johnsherrard.com/event/unavailable-136/
END:VEVENT
BEGIN:VEVENT
DTSTART;TZID=UTC:20230207T100000
DTEND;TZID=UTC:20230207T170000
DTSTAMP:20260420T112434
CREATED:20221215T213009Z
LAST-MODIFIED:20221215T213009Z
UID:5961-1675764000-1675789200@johnsherrard.com
SUMMARY:unavail
DESCRIPTION:
URL:https://johnsherrard.com/event/unavail-79/
END:VEVENT
BEGIN:VEVENT
DTSTART;TZID=UTC:20230206T140000
DTEND;TZID=UTC:20230206T170000
DTSTAMP:20260420T112434
CREATED:20230126T015946Z
LAST-MODIFIED:20230126T015946Z
UID:6039-1675692000-1675702800@johnsherrard.com
SUMMARY:2 - 5 mediation
DESCRIPTION:
URL:https://johnsherrard.com/event/2-5-mediation/
END:VEVENT
BEGIN:VEVENT
DTSTART;TZID=UTC:20230203T080000
DTEND;TZID=UTC:20230203T170000
DTSTAMP:20260420T112434
CREATED:20221115T002338Z
LAST-MODIFIED:20221115T002338Z
UID:5804-1675411200-1675443600@johnsherrard.com
SUMMARY:Unavailable
DESCRIPTION:
URL:https://johnsherrard.com/event/unavailable-32/
END:VEVENT
BEGIN:VEVENT
DTSTART;TZID=UTC:20230201T080000
DTEND;TZID=UTC:20230201T170000
DTSTAMP:20260420T112434
CREATED:20221207T234137Z
LAST-MODIFIED:20221207T234137Z
UID:5936-1675238400-1675270800@johnsherrard.com
SUMMARY:unavailable
DESCRIPTION:
URL:https://johnsherrard.com/event/unavailable-135/
END:VEVENT
BEGIN:VEVENT
DTSTART;TZID=UTC:20230130T080000
DTEND;TZID=UTC:20230131T170000
DTSTAMP:20260420T112434
CREATED:20221207T234117Z
LAST-MODIFIED:20230120T021052Z
UID:5934-1675065600-1675184400@johnsherrard.com
SUMMARY:unavailable
DESCRIPTION:
URL:https://johnsherrard.com/event/unavailable-134/
END:VEVENT
BEGIN:VEVENT
DTSTART;TZID=UTC:20230126T080000
DTEND;TZID=UTC:20230127T170000
DTSTAMP:20260420T112435
CREATED:20221115T002320Z
LAST-MODIFIED:20221115T002320Z
UID:5802-1674720000-1674838800@johnsherrard.com
SUMMARY:Unavailable
DESCRIPTION:
URL:https://johnsherrard.com/event/unavailable-31/
END:VEVENT
BEGIN:VEVENT
DTSTART;TZID=UTC:20230126T080000
DTEND;TZID=UTC:20230127T170000
DTSTAMP:20260420T112435
CREATED:20221028T170827Z
LAST-MODIFIED:20221028T170827Z
UID:5730-1674720000-1674838800@johnsherrard.com
SUMMARY:Unavail
DESCRIPTION:
URL:https://johnsherrard.com/event/unavail-78/
END:VEVENT
BEGIN:VEVENT
DTSTART;TZID=UTC:20230125T080000
DTEND;TZID=UTC:20230125T170000
DTSTAMP:20260420T112435
CREATED:20230120T020949Z
LAST-MODIFIED:20230120T020949Z
UID:5997-1674633600-1674666000@johnsherrard.com
SUMMARY:Unavailable
DESCRIPTION:
URL:https://johnsherrard.com/event/unavailable-155/
END:VEVENT
BEGIN:VEVENT
DTSTART;TZID=UTC:20230123T080000
DTEND;TZID=UTC:20230123T170000
DTSTAMP:20260420T112435
CREATED:20221207T234100Z
LAST-MODIFIED:20221207T234100Z
UID:5932-1674460800-1674493200@johnsherrard.com
SUMMARY:unavailable
DESCRIPTION:
URL:https://johnsherrard.com/event/unavailable-133/
END:VEVENT
END:VCALENDAR