BEGIN:VCALENDAR
VERSION:2.0
PRODID:-//Sherrard Law Group - ECPv6.15.20//NONSGML v1.0//EN
CALSCALE:GREGORIAN
METHOD:PUBLISH
X-WR-CALNAME:Sherrard Law Group
X-ORIGINAL-URL:https://johnsherrard.com
X-WR-CALDESC:Events for Sherrard Law Group
REFRESH-INTERVAL;VALUE=DURATION:PT1H
X-Robots-Tag:noindex
X-PUBLISHED-TTL:PT1H
BEGIN:VTIMEZONE
TZID:UTC
BEGIN:STANDARD
TZOFFSETFROM:+0000
TZOFFSETTO:+0000
TZNAME:UTC
DTSTART:20220101T000000
END:STANDARD
END:VTIMEZONE
BEGIN:VEVENT
DTSTART;TZID=UTC:20230517T080000
DTEND;TZID=UTC:20230609T170000
DTSTAMP:20260420T055804
CREATED:20221115T002522Z
LAST-MODIFIED:20230120T021721Z
UID:5814-1684310400-1686330000@johnsherrard.com
SUMMARY:Unavailable
DESCRIPTION:
URL:https://johnsherrard.com/event/unavailable-37/
END:VEVENT
BEGIN:VEVENT
DTSTART;TZID=UTC:20230515T080000
DTEND;TZID=UTC:20230516T170000
DTSTAMP:20260420T055804
CREATED:20221207T234816Z
LAST-MODIFIED:20221207T234816Z
UID:5955-1684137600-1684256400@johnsherrard.com
SUMMARY:unavailable
DESCRIPTION:
URL:https://johnsherrard.com/event/unavailable-144/
END:VEVENT
BEGIN:VEVENT
DTSTART;TZID=UTC:20230512T080000
DTEND;TZID=UTC:20230512T170000
DTSTAMP:20260420T055804
CREATED:20230209T015446Z
LAST-MODIFIED:20230209T015446Z
UID:6065-1683878400-1683910800@johnsherrard.com
SUMMARY:Unavailable
DESCRIPTION:
URL:https://johnsherrard.com/event/unavailable-166/
END:VEVENT
BEGIN:VEVENT
DTSTART;TZID=UTC:20230511T080000
DTEND;TZID=UTC:20230511T170000
DTSTAMP:20260420T055804
CREATED:20230321T222554Z
LAST-MODIFIED:20230321T222554Z
UID:6135-1683792000-1683824400@johnsherrard.com
SUMMARY:10 - 5 unavail
DESCRIPTION:
URL:https://johnsherrard.com/event/10-5-unavail-14/
END:VEVENT
BEGIN:VEVENT
DTSTART;TZID=UTC:20230510T080000
DTEND;TZID=UTC:20230510T170000
DTSTAMP:20260420T055804
CREATED:20221207T234741Z
LAST-MODIFIED:20230209T015556Z
UID:5953-1683705600-1683738000@johnsherrard.com
SUMMARY:unavailable
DESCRIPTION:
URL:https://johnsherrard.com/event/unavailable-143/
END:VEVENT
BEGIN:VEVENT
DTSTART;TZID=UTC:20230509T080000
DTEND;TZID=UTC:20230509T170000
DTSTAMP:20260420T055804
CREATED:20230311T003450Z
LAST-MODIFIED:20230311T003450Z
UID:6126-1683619200-1683651600@johnsherrard.com
SUMMARY:10 - 5 mediation
DESCRIPTION:
URL:https://johnsherrard.com/event/10-5-mediation-3/
END:VEVENT
BEGIN:VEVENT
DTSTART;TZID=UTC:20230508T080000
DTEND;TZID=UTC:20230508T170000
DTSTAMP:20260420T055804
CREATED:20230209T015426Z
LAST-MODIFIED:20230209T015426Z
UID:6063-1683532800-1683565200@johnsherrard.com
SUMMARY:Unavailable
DESCRIPTION:
URL:https://johnsherrard.com/event/unavailable-165/
END:VEVENT
BEGIN:VEVENT
DTSTART;TZID=UTC:20230504T080000
DTEND;TZID=UTC:20230505T170000
DTSTAMP:20260420T055804
CREATED:20221115T002842Z
LAST-MODIFIED:20230120T021615Z
UID:5828-1683187200-1683306000@johnsherrard.com
SUMMARY:Unavailable
DESCRIPTION:
URL:https://johnsherrard.com/event/unavailable-45/
END:VEVENT
BEGIN:VEVENT
DTSTART;TZID=UTC:20230503T080000
DTEND;TZID=UTC:20230503T170000
DTSTAMP:20260420T055804
CREATED:20230120T193603Z
LAST-MODIFIED:20230120T193603Z
UID:6016-1683100800-1683133200@johnsherrard.com
SUMMARY:unavailable - trial
DESCRIPTION:
URL:https://johnsherrard.com/event/unavailable-trial/
END:VEVENT
BEGIN:VEVENT
DTSTART;TZID=UTC:20230502T080000
DTEND;TZID=UTC:20230502T170000
DTSTAMP:20260420T055804
CREATED:20230410T174416Z
LAST-MODIFIED:20230410T174416Z
UID:6159-1683014400-1683046800@johnsherrard.com
SUMMARY:Unavail
DESCRIPTION:
URL:https://johnsherrard.com/event/unavail-92/
END:VEVENT
BEGIN:VEVENT
DTSTART;TZID=UTC:20230501T080000
DTEND;TZID=UTC:20230502T170000
DTSTAMP:20260420T055804
CREATED:20230120T193428Z
LAST-MODIFIED:20230120T193428Z
UID:6014-1682928000-1683046800@johnsherrard.com
SUMMARY:Unavail
DESCRIPTION:
URL:https://johnsherrard.com/event/unavail-82/
END:VEVENT
BEGIN:VEVENT
DTSTART;TZID=UTC:20230501T080000
DTEND;TZID=UTC:20230501T170000
DTSTAMP:20260420T055804
CREATED:20230325T000119Z
LAST-MODIFIED:20230325T000119Z
UID:6146-1682928000-1682960400@johnsherrard.com
SUMMARY:Unavail.
DESCRIPTION:
URL:https://johnsherrard.com/event/unavail-87/
END:VEVENT
BEGIN:VEVENT
DTSTART;TZID=UTC:20230428T080000
DTEND;TZID=UTC:20230428T170000
DTSTAMP:20260420T055804
CREATED:20221115T002727Z
LAST-MODIFIED:20221115T002727Z
UID:5824-1682668800-1682701200@johnsherrard.com
SUMMARY:Unavailable
DESCRIPTION:
URL:https://johnsherrard.com/event/unavailable-43/
END:VEVENT
BEGIN:VEVENT
DTSTART;TZID=UTC:20230427T090000
DTEND;TZID=UTC:20230427T170000
DTSTAMP:20260420T055804
CREATED:20230317T180112Z
LAST-MODIFIED:20230330T213704Z
UID:6129-1682586000-1682614800@johnsherrard.com
SUMMARY:9 - 1 Unavailable
DESCRIPTION:
URL:https://johnsherrard.com/event/9-1-unavailable/
END:VEVENT
BEGIN:VEVENT
DTSTART;TZID=UTC:20230426T080000
DTEND;TZID=UTC:20230426T170000
DTSTAMP:20260420T055804
CREATED:20230410T174352Z
LAST-MODIFIED:20230410T174352Z
UID:6157-1682496000-1682528400@johnsherrard.com
SUMMARY:Unavail
DESCRIPTION:
URL:https://johnsherrard.com/event/unavail-91/
END:VEVENT
BEGIN:VEVENT
DTSTART;TZID=UTC:20230425T080000
DTEND;TZID=UTC:20230425T170000
DTSTAMP:20260420T055804
CREATED:20230302T202123Z
LAST-MODIFIED:20230315T181527Z
UID:6112-1682409600-1682442000@johnsherrard.com
SUMMARY:Unavail
DESCRIPTION:
URL:https://johnsherrard.com/event/unavail-89/
END:VEVENT
BEGIN:VEVENT
DTSTART;TZID=UTC:20230424T100000
DTEND;TZID=UTC:20230424T170000
DTSTAMP:20260420T055804
CREATED:20230302T231516Z
LAST-MODIFIED:20230302T231516Z
UID:6116-1682330400-1682355600@johnsherrard.com
SUMMARY:10 - 5 unavail
DESCRIPTION:
URL:https://johnsherrard.com/event/10-5-unavail-12/
END:VEVENT
BEGIN:VEVENT
DTSTART;TZID=UTC:20230421T080000
DTEND;TZID=UTC:20230421T170000
DTSTAMP:20260420T055804
CREATED:20221115T002712Z
LAST-MODIFIED:20221115T002712Z
UID:5822-1682064000-1682096400@johnsherrard.com
SUMMARY:Unavailable
DESCRIPTION:
URL:https://johnsherrard.com/event/unavailable-41/
END:VEVENT
BEGIN:VEVENT
DTSTART;TZID=UTC:20230420T080000
DTEND;TZID=UTC:20230420T103000
DTSTAMP:20260420T055804
CREATED:20221115T002752Z
LAST-MODIFIED:20221115T002752Z
UID:5826-1681977600-1681986600@johnsherrard.com
SUMMARY:Unavailable
DESCRIPTION:
URL:https://johnsherrard.com/event/unavailable-44/
END:VEVENT
BEGIN:VEVENT
DTSTART;TZID=UTC:20230419T080000
DTEND;TZID=UTC:20230419T170000
DTSTAMP:20260420T055804
CREATED:20230227T200253Z
LAST-MODIFIED:20230227T200253Z
UID:6105-1681891200-1681923600@johnsherrard.com
SUMMARY:Unavail
DESCRIPTION:
URL:https://johnsherrard.com/event/unavail-88/
END:VEVENT
BEGIN:VEVENT
DTSTART;TZID=UTC:20230418T140000
DTEND;TZID=UTC:20230418T170000
DTSTAMP:20260420T055804
CREATED:20221207T234615Z
LAST-MODIFIED:20221207T234615Z
UID:5950-1681826400-1681837200@johnsherrard.com
SUMMARY:unavailable
DESCRIPTION:
URL:https://johnsherrard.com/event/unavailable-142/
END:VEVENT
BEGIN:VEVENT
DTSTART;TZID=UTC:20230418T080000
DTEND;TZID=UTC:20230418T170000
DTSTAMP:20260420T055804
CREATED:20230227T210818Z
LAST-MODIFIED:20230227T210818Z
UID:6107-1681804800-1681837200@johnsherrard.com
SUMMARY:Unavailable
DESCRIPTION:
URL:https://johnsherrard.com/event/unavailable-170/
END:VEVENT
BEGIN:VEVENT
DTSTART;TZID=UTC:20230417T100000
DTEND;TZID=UTC:20230417T170000
DTSTAMP:20260420T055804
CREATED:20230222T002552Z
LAST-MODIFIED:20230222T002552Z
UID:6095-1681725600-1681750800@johnsherrard.com
SUMMARY:10 - 5 Unavail
DESCRIPTION:
URL:https://johnsherrard.com/event/10-5-unavail-10/
END:VEVENT
BEGIN:VEVENT
DTSTART;TZID=UTC:20230414T080000
DTEND;TZID=UTC:20230414T170000
DTSTAMP:20260420T055804
CREATED:20221115T002652Z
LAST-MODIFIED:20221115T002652Z
UID:5820-1681459200-1681491600@johnsherrard.com
SUMMARY:Unavailable
DESCRIPTION:
URL:https://johnsherrard.com/event/unavailable-40/
END:VEVENT
BEGIN:VEVENT
DTSTART;TZID=UTC:20230413T090000
DTEND;TZID=UTC:20230413T170000
DTSTAMP:20260420T055804
CREATED:20221118T021618Z
LAST-MODIFIED:20230120T021400Z
UID:5903-1681376400-1681405200@johnsherrard.com
SUMMARY:Trial - Judge Bauer
DESCRIPTION:
URL:https://johnsherrard.com/event/trial-judge-waronicki/
END:VEVENT
BEGIN:VEVENT
DTSTART;TZID=UTC:20230412T080000
DTEND;TZID=UTC:20230412T170000
DTSTAMP:20260420T055804
CREATED:20221229T214404Z
LAST-MODIFIED:20221229T214404Z
UID:5976-1681286400-1681318800@johnsherrard.com
SUMMARY:Unavailable
DESCRIPTION:
URL:https://johnsherrard.com/event/unavailable-149/
END:VEVENT
BEGIN:VEVENT
DTSTART;TZID=UTC:20230411T080000
DTEND;TZID=UTC:20230411T170000
DTSTAMP:20260420T055804
CREATED:20221207T234517Z
LAST-MODIFIED:20221207T234517Z
UID:5946-1681200000-1681232400@johnsherrard.com
SUMMARY:unavailable
DESCRIPTION:
URL:https://johnsherrard.com/event/unavailable-140/
END:VEVENT
BEGIN:VEVENT
DTSTART;TZID=UTC:20230410T080000
DTEND;TZID=UTC:20230410T170000
DTSTAMP:20260420T055804
CREATED:20230220T210717Z
LAST-MODIFIED:20230220T210717Z
UID:6087-1681113600-1681146000@johnsherrard.com
SUMMARY:Unavail
DESCRIPTION:
URL:https://johnsherrard.com/event/unavail-86/
END:VEVENT
BEGIN:VEVENT
DTSTART;TZID=UTC:20230407T080000
DTEND;TZID=UTC:20230407T170000
DTSTAMP:20260420T055804
CREATED:20221028T183225Z
LAST-MODIFIED:20221028T183225Z
UID:5736-1680854400-1680886800@johnsherrard.com
SUMMARY:courthouse / office closed
DESCRIPTION:
URL:https://johnsherrard.com/event/courthouse-office-closed-3/
END:VEVENT
BEGIN:VEVENT
DTSTART;TZID=UTC:20230406T080000
DTEND;TZID=UTC:20230406T170000
DTSTAMP:20260420T055804
CREATED:20230302T202146Z
LAST-MODIFIED:20230302T202146Z
UID:6114-1680768000-1680800400@johnsherrard.com
SUMMARY:Unavailable
DESCRIPTION:
URL:https://johnsherrard.com/event/unavailable-171/
END:VEVENT
END:VCALENDAR