BEGIN:VCALENDAR
VERSION:2.0
PRODID:-//Sherrard Law Group - ECPv6.15.20//NONSGML v1.0//EN
CALSCALE:GREGORIAN
METHOD:PUBLISH
X-WR-CALNAME:Sherrard Law Group
X-ORIGINAL-URL:https://johnsherrard.com
X-WR-CALDESC:Events for Sherrard Law Group
REFRESH-INTERVAL;VALUE=DURATION:PT1H
X-Robots-Tag:noindex
X-PUBLISHED-TTL:PT1H
BEGIN:VTIMEZONE
TZID:UTC
BEGIN:STANDARD
TZOFFSETFROM:+0000
TZOFFSETTO:+0000
TZNAME:UTC
DTSTART:20230101T000000
END:STANDARD
END:VTIMEZONE
BEGIN:VEVENT
DTSTART;TZID=UTC:20240701T100000
DTEND;TZID=UTC:20240701T170000
DTSTAMP:20260422T050418
CREATED:20240511T003503Z
LAST-MODIFIED:20240606T162536Z
UID:6654-1719828000-1719853200@johnsherrard.com
SUMMARY:Unavailable
DESCRIPTION:
URL:https://johnsherrard.com/event/unavailable-235/
END:VEVENT
END:VCALENDAR