BEGIN:VCALENDAR
VERSION:2.0
PRODID:-//Sherrard Law Group - ECPv6.15.20//NONSGML v1.0//EN
CALSCALE:GREGORIAN
METHOD:PUBLISH
X-ORIGINAL-URL:https://johnsherrard.com
X-WR-CALDESC:Events for Sherrard Law Group
REFRESH-INTERVAL;VALUE=DURATION:PT1H
X-Robots-Tag:noindex
X-PUBLISHED-TTL:PT1H
BEGIN:VTIMEZONE
TZID:UTC
BEGIN:STANDARD
TZOFFSETFROM:+0000
TZOFFSETTO:+0000
TZNAME:UTC
DTSTART:20220101T000000
END:STANDARD
END:VTIMEZONE
BEGIN:VEVENT
DTSTART;TZID=UTC:20230831T080000
DTEND;TZID=UTC:20230831T170000
DTSTAMP:20260421T043006
CREATED:20230714T183026Z
LAST-MODIFIED:20230714T183026Z
UID:6236-1693468800-1693501200@johnsherrard.com
SUMMARY:Unavailable
DESCRIPTION:
URL:https://johnsherrard.com/event/unavailable-183/
END:VEVENT
END:VCALENDAR